BEGIN:VCALENDAR
VERSION:2.0
PRODID:-//69.73.188.146//NONSGML kigkonsult.se iCalcreator 2.20//
CALSCALE:GREGORIAN
METHOD:PUBLISH
X-WR-CALNAME:Doctor Who Club of Victoria
X-WR-CALDESC:
X-FROM-URL:http://dwcv.org.au/wp
X-WR-TIMEZONE:Australia/Melbourne
BEGIN:VTIMEZONE
TZID:Australia/Melbourne
X-LIC-LOCATION:Australia/Melbourne
BEGIN:STANDARD
DTSTART:20190407T030000
TZOFFSETFROM:+1100
TZOFFSETTO:+1000
TZNAME:AEST
END:STANDARD
BEGIN:DAYLIGHT
DTSTART:20181007T020000
TZOFFSETFROM:+1000
TZOFFSETTO:+1100
TZNAME:AEDT
END:DAYLIGHT
END:VTIMEZONE
BEGIN:VEVENT
UID:ai1ec-1079@dwcv.org.au/wp
DTSTAMP:20190301T073342Z
CATEGORIES;LANGUAGE=en-US:DWCV events
CONTACT:
DESCRIPTION:Further details TBA\, please check back later for information o
 n this meeting’s theme and activities.\nDoors open @ 1pm\, activities star
 t @ 1:30pm.\n\nTea and coffee provided as well as some snacks (no addition
 al cost)\, soft drinks and bottled water can be bought for $1.\nAdmission 
 prices:\nMembers: $6\nNon-members: $8\nFirst-time attending a meeting: gol
 d coin donation\nKids under 14: $2 / Kids under 2: Free\nFamily (2 adults 
 and their kids): $14
DTSTART;TZID=Australia/Melbourne:20160312T130000
DTEND;TZID=Australia/Melbourne:20160312T170000
GEO:-37.775082;+144.997979
LOCATION:Northcote Town Hall @ 180 High St\, Northcote VIC 3070\, Australia
SEQUENCE:0
SUMMARY:March DWCV Meeting
URL:http://dwcv.org.au/wp/event/march-dwcv-meeting-2016/
X-ALT-DESC;FMTTYPE=text/html:<!DOCTYPE HTML PUBLIC '-//W3C//DTD HTML 3.2//E
 N'>\\n<HTML>\\n<HEAD>\\n<TITLE></TITLE>\\n</HEAD>\\n<BODY><p>Further detai
 ls TBA\, please check back later for information on this meeting’s theme a
 nd activities.</p>\n<p><strong>Doors open @ 1pm\, activities start @ 1:30p
 m.</strong></p>\n<hr />\n<p>Tea and coffee provided as well as some snacks
  (no additional cost)\, soft drinks and bottled water can be bought for $1
 .</p>\n<p><strong>Admission prices:</strong><br />\nMembers: $6<br />\nNon
 -members: $8<br />\nFirst-time attending a meeting: gold coin donation<br 
 />\nKids under 14: $2 / Kids under 2: Free<br />\nFamily (2 adults and the
 ir kids): $14</p>\n</BODY></HTML>
X-COST:$6 members / $8 non-members
END:VEVENT
END:VCALENDAR
