BEGIN:VCALENDAR
VERSION:2.0
PRODID:-//69.73.188.146//NONSGML kigkonsult.se iCalcreator 2.20//
CALSCALE:GREGORIAN
METHOD:PUBLISH
X-WR-CALNAME:Doctor Who Club of Victoria
X-WR-CALDESC:
X-FROM-URL:http://dwcv.org.au/wp
X-WR-TIMEZONE:Australia/Melbourne
BEGIN:VTIMEZONE
TZID:Australia/Melbourne
X-LIC-LOCATION:Australia/Melbourne
BEGIN:STANDARD
DTSTART:20190407T030000
TZOFFSETFROM:+1100
TZOFFSETTO:+1000
TZNAME:AEST
END:STANDARD
BEGIN:DAYLIGHT
DTSTART:20181007T020000
TZOFFSETFROM:+1000
TZOFFSETTO:+1100
TZNAME:AEDT
END:DAYLIGHT
END:VTIMEZONE
BEGIN:VEVENT
UID:ai1ec-1080@dwcv.org.au/wp
DTSTAMP:20190301T073448Z
CATEGORIES;LANGUAGE=en-US:DWCV events
CONTACT:
DESCRIPTION:This May marks 20 years since the death of Jon Pertwee and the 
 release of “Doctor Who the Movie”.\nWe will be holding a day of tributes a
 nd trivia based around the 3rd Doctor and the Doctor Who telemovie.\n\nTri
 via throughout the day based around the 3rd Doctor and the Doctor Who Movi
 e.\nTribute to Jon Pertwee\nOpen Discussion Forum: Doctor Who Movie\nSpeci
 al Guest Presentation on the BBC Audio Books by Damian Christie\, a regula
 r contributor and reviewer at Doctor Who News.\n\nDoors open @ 1pm\, activ
 ities start @ 1:30pm.\n\nTea and coffee provided as well as some snacks (n
 o additional cost)\, soft drinks and bottled water can be bought for $1.\n
 Admission prices:\nMembers: $6\nNon-members: $8\nFirst-time attending a me
 eting: gold coin donation\nKids under 14: $2 / Kids under 2: Free\nFamily 
 (2 adults and their kids): $14
DTSTART;TZID=Australia/Melbourne:20160514T130000
DTEND;TZID=Australia/Melbourne:20160514T170000
GEO:-37.775082;+144.997979
LOCATION:Northcote Town Hall @ 180 High St\, Northcote VIC 3070\, Australia
SEQUENCE:0
SUMMARY:May DWCV Meeting – Tributes and Trivia
URL:http://dwcv.org.au/wp/event/may-dwcv-meeting-2016/
X-ALT-DESC;FMTTYPE=text/html:<!DOCTYPE HTML PUBLIC '-//W3C//DTD HTML 3.2//E
 N'>\\n<HTML>\\n<HEAD>\\n<TITLE></TITLE>\\n</HEAD>\\n<BODY><p>This May mark
 s 20 years since the death of Jon Pertwee and the release of “Doctor Who t
 he Movie”.</p>\n<p>We will be holding a day of tributes and trivia based a
 round the 3rd Doctor and the Doctor Who telemovie.</p>\n<ul>\n<li>Trivia t
 hroughout the day based around the 3rd Doctor and the Doctor Who Movie.</l
 i>\n<li>Tribute to Jon Pertwee</li>\n<li>Open Discussion Forum: Doctor Who
  Movie</li>\n<li>Special Guest Presentation on the BBC Audio Books by Dami
 an Christie\, a regular contributor and reviewer at <a href='http://www.do
 ctorwhonews.net/' target='_blank'>Doctor Who News</a>.</li>\n</ul>\n<p><st
 rong><em>Doors open @ 1pm\, activities start @ 1:30pm.</em></strong></p>\n
 <hr />\n<p>Tea and coffee provided as well as some snacks (no additional c
 ost)\, soft drinks and bottled water can be bought for $1.</p>\n<p><strong
 >Admission prices:</strong><br />\nMembers: $6<br />\nNon-members: $8<br /
 >\nFirst-time attending a meeting: gold coin donation<br />\nKids under 14
 : $2 / Kids under 2: Free<br />\nFamily (2 adults and their kids): $14</p>
 \n</BODY></HTML>
X-COST:$6 members / $8 non-members
END:VEVENT
END:VCALENDAR
