BEGIN:VCALENDAR
VERSION:2.0
PRODID:-//69.73.188.146//NONSGML kigkonsult.se iCalcreator 2.20//
CALSCALE:GREGORIAN
METHOD:PUBLISH
X-WR-CALNAME:Doctor Who Club of Victoria
X-WR-CALDESC:
X-FROM-URL:http://dwcv.org.au/wp
X-WR-TIMEZONE:Australia/Melbourne
BEGIN:VTIMEZONE
TZID:Australia/Melbourne
X-LIC-LOCATION:Australia/Melbourne
BEGIN:STANDARD
DTSTART:20190407T030000
TZOFFSETFROM:+1100
TZOFFSETTO:+1000
TZNAME:AEST
END:STANDARD
BEGIN:DAYLIGHT
DTSTART:20181007T020000
TZOFFSETFROM:+1000
TZOFFSETTO:+1100
TZNAME:AEDT
END:DAYLIGHT
END:VTIMEZONE
BEGIN:VEVENT
UID:ai1ec-1160@dwcv.org.au/wp
DTSTAMP:20190301T073717Z
CATEGORIES;LANGUAGE=en-US:DWCV events
CONTACT:0478 840 005
DESCRIPTION:Come along to our Christmas Lunch and relax and chat with other
  members and fans.\nHarbour Town Hotel is family friendly and is a 5 min w
 alk from public transport (last stop on the number 86 tram towards Docklan
 ds).\nMenu: http://www.harbourtownhotel.com.au/menu/\n** Please note that 
 bookings are essential so that we can book for the required amount of peop
 le. **\nTo book please phone/text Kristie on 0478 840 005 or contact the c
 lub.\nWe also will be running a secret Santa (optional) for both adults an
 d kids. For those who wish to participate in this\, please advise when boo
 king for the lunch so that you can be included on the day (also advise if 
 participating in adult or kids secret Santa). If participating please brin
 g a gender neutral gift valued between $5-$10.
DTSTART;TZID=Australia/Melbourne:20161211T123000
GEO:-37.812921;+144.937422
LOCATION:Harbour Town Hotel @ 12 Star Circus\, Docklands VIC 3008\, Austral
 ia
SEQUENCE:0
SUMMARY:Sunday Christmas Lunch
URL:http://dwcv.org.au/wp/event/sunday-christmas-lunch/
X-COST-TYPE:free
X-ALT-DESC;FMTTYPE=text/html:<!DOCTYPE HTML PUBLIC '-//W3C//DTD HTML 3.2//E
 N'>\\n<HTML>\\n<HEAD>\\n<TITLE></TITLE>\\n</HEAD>\\n<BODY><p>Come along to
  our Christmas Lunch and relax and chat with other members and fans.</p>\n
 <p>Harbour Town Hotel is family friendly and is a 5 min walk from public t
 ransport (last stop on the number 86 tram towards Docklands).</p>\n<p>Menu
 : <a href='http://www.harbourtownhotel.com.au/menu/' target='_blank' rel='
 nofollow nofollow noopener noreferrer'>http://<wbr />www.harbourtownhotel.
 com.au<wbr />/menu/</a></p>\n<p>** Please note that bookings are essential
  so that we can book for the required amount of people. **</p>\n<p>To book
  please phone/text Kristie on 0478 840 005 or <a href='http://dwcv.org.au/
 wp/contact-us/'>contact the club</a>.</p>\n<p>We also will be running a se
 cret Santa (optional) for both adults and kids. For those who wish to part
 icipate in this\, please advise when booking for the lunch so that you can
  be included on the day (also advise if participating in adult or kids sec
 ret Santa). If participating please bring a gender neutral gift valued bet
 ween $5-$10.</p>\n</BODY></HTML>
X-INSTANT-EVENT:1
END:VEVENT
END:VCALENDAR
