BEGIN:VCALENDAR
VERSION:2.0
PRODID:-//69.73.188.146//NONSGML kigkonsult.se iCalcreator 2.20//
CALSCALE:GREGORIAN
METHOD:PUBLISH
X-WR-CALNAME:Doctor Who Club of Victoria
X-WR-CALDESC:
X-FROM-URL:http://dwcv.org.au/wp
X-WR-TIMEZONE:Australia/Melbourne
BEGIN:VTIMEZONE
TZID:Australia/Melbourne
X-LIC-LOCATION:Australia/Melbourne
BEGIN:STANDARD
DTSTART:20190407T030000
TZOFFSETFROM:+1100
TZOFFSETTO:+1000
TZNAME:AEST
END:STANDARD
BEGIN:DAYLIGHT
DTSTART:20181007T020000
TZOFFSETFROM:+1000
TZOFFSETTO:+1100
TZNAME:AEDT
END:DAYLIGHT
END:VTIMEZONE
BEGIN:VEVENT
UID:ai1ec-1165@dwcv.org.au/wp
DTSTAMP:20190301T073926Z
CATEGORIES;LANGUAGE=en-US:DWCV events
CONTACT:0478 840 005
DESCRIPTION:Join us for a fun relaxing afternoon as we explored and play so
 me of the many Doctor Who themed games.\nGames include:\n\nDoctor Who Risk
 \nDoctor Who Monopoly\nDoctor Who Trivial Pursuit\nTime Wars Board Game\nD
 octor Who Electronic Board Game\nDoctor Who Uno\nDoctor Who Cluedo\n… and 
 more!\n\nWe will also have  PlayStation 3 set up with ‘The Eternity Clock’
  and a computer with the Doctor Who Adventure Games.\nOr just chat and soc
 ialise with other members and fans.\nThis meeting is fun for the whole fam
 ily\, with games suitable for all ages!\nDoors open @ 1:00 pm\, activities
  start @ 1:30 pm.\n\nTea and coffee provided as well as some snacks (no ad
 ditional cost)\, soft drinks and bottled water can be bought for $1.\nAdmi
 ssion prices:\nMembers: $6\nNon-members: $8\nFirst-time attending a meetin
 g: gold coin donation\nKids under 14: $2 / Kids under 2: Free\nFamily (2 a
 dults and their kids): $14\n 
DTSTART;TZID=Australia/Melbourne:20170211T130000
DTEND;TZID=Australia/Melbourne:20170211T170000
GEO:-37.819841;+144.947552
LOCATION:The Hub Docklands @ Hub at Docklands\, 68-90 Harbour Esplanade\, D
 ocklands VIC 3008\, Australia
SEQUENCE:0
SUMMARY:February DWCV Meeting – Games Day
URL:http://dwcv.org.au/wp/event/february-dwcv-meeting-2017/
X-COST-TYPE:external
X-ALT-DESC;FMTTYPE=text/html:<!DOCTYPE HTML PUBLIC '-//W3C//DTD HTML 3.2//E
 N'>\\n<HTML>\\n<HEAD>\\n<TITLE></TITLE>\\n</HEAD>\\n<BODY><p>Join us for a
  fun relaxing afternoon as we explored and play some of the many Doctor Wh
 o themed games.</p>\n<p>Games include:</p>\n<ul>\n<li>Doctor Who Risk</li>
 \n<li>Doctor Who Monopoly</li>\n<li>Doctor Who Trivial Pursuit</li>\n<li>T
 ime Wars Board Game</li>\n<li>Doctor Who Electronic Board Game</li>\n<li>D
 octor Who Uno</li>\n<li>Doctor Who Cluedo</li>\n<li>… and more!</li>\n</ul
 >\n<p>We will also have  PlayStation 3 set up with ‘The Eternity Clock’ an
 d a computer with the Doctor Who Adventure Games.</p>\n<p>Or just chat and
  socialise with other members and fans.</p>\n<p>This meeting is fun for th
 e whole family\, with games suitable for all ages!</p>\n<p><em><strong>Doo
 rs open @ 1:00 pm\, activities start @ 1:30 pm.</strong></em></p>\n<hr />
 \n<p>Tea and coffee provided as well as some snacks (no additional cost)\,
  soft drinks and bottled water can be bought for $1.</p>\n<p><strong>Admis
 sion prices:</strong><br />\nMembers: $6<br />\nNon-members: $8<br />\nFir
 st-time attending a meeting: gold coin donation<br />\nKids under 14: $2 /
  Kids under 2: Free<br />\nFamily (2 adults and their kids): $14</p>\n<p> 
 </p>\n</BODY></HTML>
X-COST:Members $6 / Non-Members $8
END:VEVENT
END:VCALENDAR
