BEGIN:VCALENDAR
VERSION:2.0
PRODID:-//69.73.188.146//NONSGML kigkonsult.se iCalcreator 2.20//
CALSCALE:GREGORIAN
METHOD:PUBLISH
X-WR-CALNAME:Doctor Who Club of Victoria
X-WR-CALDESC:
X-FROM-URL:http://dwcv.org.au/wp
X-WR-TIMEZONE:Australia/Melbourne
BEGIN:VTIMEZONE
TZID:Australia/Melbourne
X-LIC-LOCATION:Australia/Melbourne
BEGIN:STANDARD
DTSTART:20190407T030000
TZOFFSETFROM:+1100
TZOFFSETTO:+1000
TZNAME:AEST
END:STANDARD
BEGIN:DAYLIGHT
DTSTART:20181007T020000
TZOFFSETFROM:+1000
TZOFFSETTO:+1100
TZNAME:AEDT
END:DAYLIGHT
END:VTIMEZONE
BEGIN:VEVENT
UID:ai1ec-1166@dwcv.org.au/wp
DTSTAMP:20190301T074024Z
CATEGORIES;LANGUAGE=en-US:DWCV events
CONTACT:0478 840 005
DESCRIPTION:For this meeting\, we become the bad guys! The guys we all love
  to hate – the monsters and villains! We will be having a day of monster a
 nd villain themed panels and activities including:\n\nMonster Game Show: c
 ompete in several activities.\nMonster Fashion Police: We look at the good
  (and bad) of some monster designs.\nHow Good is that Monster? (a.k.a. How
  Bad is that Monster?): We take a look at how effective/ineffective some o
 f the monsters are.\n10 Years of the Weeping Angels Panel\nThe A-Z of ‘Les
 ser’ Monsters\nKid’s Corner – Design Your Own Monster\nScreening Room runn
 ing monster/villain themed screenings all day.\n\nDoors open @ 1:00 pm\, a
 ctivities start @ 1:30 pm.\nPlease note that this meeting is a week later 
 than our usual meetings\, due to the Con80 convention being held on the 2n
 d weekend of the month.\n\nTea and coffee provided as well as some snacks 
 (no additional cost)\, soft drinks and bottled water can be bought for $1.
 00.\nAdmission prices:\nMembers: $6*\nNon-members: $8\nNon-member first-ti
 me attending a meeting: gold coin donation\nKids under 14: $2 / Kids under
  2: Free\nFamily (2 adults and their kids): $14\n*Members can also choose 
 to use their ‘one free meeting entry’ as part of their membership for this
  meeting.\n 
DTSTART;TZID=Australia/Melbourne:20170318T130000
DTEND;TZID=Australia/Melbourne:20170318T170000
GEO:-37.819841;+144.947552
LOCATION:The Hub Docklands @ Hub at Docklands\, 68-90 Harbour Esplanade\, D
 ocklands VIC 3008\, Australia
SEQUENCE:0
SUMMARY:March DWCV Meeting – Monsters and Villians
URL:http://dwcv.org.au/wp/event/march-dwcv-meeting-2017/
X-ALT-DESC;FMTTYPE=text/html:<!DOCTYPE HTML PUBLIC '-//W3C//DTD HTML 3.2//E
 N'>\\n<HTML>\\n<HEAD>\\n<TITLE></TITLE>\\n</HEAD>\\n<BODY><p>For this meet
 ing\, we become the bad guys! The guys we all love to hate – the monsters 
 and villains! We will be having a day of monster and villain themed panels
  and activities including:</p>\n<ul>\n<li>Monster Game Show: compete in se
 veral activities.</li>\n<li>Monster Fashion Police: We look at the good (a
 nd bad) of some monster designs.</li>\n<li>How Good is that Monster? (a.k.
 a. How Bad is that Monster?): We take a look at how effective/ineffective 
 some of the monsters are.</li>\n<li>10 Years of the Weeping Angels Panel</
 li>\n<li>The A-Z of ‘Lesser’ Monsters</li>\n<li>Kid’s Corner – Design Your
  Own Monster</li>\n<li>Screening Room running monster/villain themed scree
 nings all day.</li>\n</ul>\n<p><strong>Doors open @ 1:00 pm\, activities s
 tart @ 1:30 pm.</strong></p>\n<p>Please note that this meeting is a week l
 ater than our usual meetings\, due to the Con80 convention being held on t
 he 2nd weekend of the month.</p>\n<hr />\n<p>Tea and coffee provided as we
 ll as some snacks (no additional cost)\, soft drinks and bottled water can
  be bought for $1.00.</p>\n<p><strong>Admission prices:</strong><br />\nMe
 mbers: $6*<br />\nNon-members: $8<br />\nNon-member first-time attending a
  meeting: gold coin donation<br />\nKids under 14: $2 / Kids under 2: Free
 <br />\nFamily (2 adults and their kids): $14</p>\n<p>*Members can also ch
 oose to use their ‘one free meeting entry’ as part of their membership for
  this meeting.</p>\n<p> </p>\n</BODY></HTML>
X-COST:Members $6 / Non-members $8
END:VEVENT
END:VCALENDAR
