BEGIN:VCALENDAR
VERSION:2.0
PRODID:-//69.73.188.146//NONSGML kigkonsult.se iCalcreator 2.20//
CALSCALE:GREGORIAN
METHOD:PUBLISH
X-WR-CALNAME:Doctor Who Club of Victoria
X-WR-CALDESC:
X-FROM-URL:http://dwcv.org.au/wp
X-WR-TIMEZONE:Australia/Melbourne
BEGIN:VTIMEZONE
TZID:Australia/Melbourne
X-LIC-LOCATION:Australia/Melbourne
BEGIN:STANDARD
DTSTART:20190407T030000
TZOFFSETFROM:+1100
TZOFFSETTO:+1000
TZNAME:AEST
END:STANDARD
BEGIN:DAYLIGHT
DTSTART:20181007T020000
TZOFFSETFROM:+1000
TZOFFSETTO:+1100
TZNAME:AEDT
END:DAYLIGHT
END:VTIMEZONE
BEGIN:VEVENT
UID:ai1ec-1169@dwcv.org.au/wp
DTSTAMP:20190301T074444Z
CATEGORIES;LANGUAGE=en-US:DWCV events
CONTACT:0478 840 005
DESCRIPTION:<p><strong>Season 10 in Review</strong><br />\nWe look back at 
 the previous series where we prepared to say goodbye to Peter Capaldi in t
 he role of the Doctor\, where we discovered the freshness of a new compani
 on in Bill\, and the return of Nardole. Panel will include include clips\,
  panel discussion and audience participation. There will be spoilers aplen
 ty\, so if you haven’t seen this season yet\, feel free to sit this one ou
 t in the Atrium or Screening Room.</p>\n<p><strong>Insurance with the Coll
 ector in Mind<br />\n</strong>How many of you have rare and valuable colle
 ctables? Have you ever considered that you should be insuring them? Guest 
 speaker Colin Parkinson will be running an informative presentation on ins
 urance options\, including some you may not have thought about. With many 
 years experience in the area\, he will also be on hand to answer any of yo
 ur insurance-related questions.</p>\n<p><strong>The Great Female Doctor Di
 scussion<br />\n</strong>With Jodi Whittaker being announced as the 13th D
 octor\, quite possibly has there never been a more controversial choice fo
 r the role of the Doctor. With heated opinions coming from both sides\, we
  bring you your chance to have your say as well. We will have a panel read
 y to take your questions and opinions\, with panels members who are both f
 or and against the choice. <em>Please note that we will strictly be modera
 ting this panel. Participants are to be respectful of other’s opinions at 
 all times (including both when listening to others and if providing your o
 wn opinion). Anyone repeatedly interrupting or flaming/arguing with anothe
 r member will be asked to leave the panel room</em><em><em>.</em></em></p>
 \n<hr />\n<p><strong>Doors open @ 1:00 pm\, activities start @ 1:30 pm.</s
 trong></p>\n<p><strong>Admission Prices:</strong><br />\n<strong>—</strong
 >Members: $6.00* / Non-members: $8.00<br />\n<strong>—</strong>Kids under 
 14: $2.00 / Kids under 2: Free<br />\n<strong>—</strong>Family (2 adults a
 nd kids): $14.00 members / $18.00 non-members<br />\n<strong>—</strong>Non
 -member first-time attending a meeting: gold coin donation</p>\n<p><strong
 >Food and Drink:<br />\n—</strong>Tea and coffee provided\, soft drinks av
 ailable to purchase for $1.50.<br />\n<strong>—</strong>Some snacks are pr
 ovided for no additional cost.<br />\n<strong>—</strong>Donations of a pla
 te of food are always appreciated but not necessary. 🙂<br />\n<strong>—</s
 trong>Venue is walking distance from food places if you wish to eat someth
 ing more substantial.</p>\n<p><em>*Members can also choose to use their ‘o
 ne free meeting entry’ as part of their membership for this meeting.</em><
 /p>
DTSTART;TZID=Australia/Melbourne:20170909T130000
DTEND;TZID=Australia/Melbourne:20170909T170000
GEO:-37.819841;+144.947552
LOCATION:The Hub Docklands @ Hub at Docklands\, 68-90 Harbour Esplanade\, D
 ocklands VIC 3008\, Australia
SEQUENCE:0
SUMMARY:September DWCV Meeting – Season 10 in Review
URL:http://dwcv.org.au/wp/event/september-dwcv-meeting-2017/
X-COST-TYPE:external
X-COST:Members $6 / Non-members $8
END:VEVENT
END:VCALENDAR
