BEGIN:VCALENDAR
VERSION:2.0
PRODID:-//69.73.188.146//NONSGML kigkonsult.se iCalcreator 2.20//
CALSCALE:GREGORIAN
METHOD:PUBLISH
X-WR-CALNAME:Doctor Who Club of Victoria
X-WR-CALDESC:
X-FROM-URL:http://dwcv.org.au/wp
X-WR-TIMEZONE:Australia/Melbourne
BEGIN:VTIMEZONE
TZID:Australia/Melbourne
X-LIC-LOCATION:Australia/Melbourne
BEGIN:STANDARD
DTSTART:20190407T030000
TZOFFSETFROM:+1100
TZOFFSETTO:+1000
TZNAME:AEST
END:STANDARD
BEGIN:DAYLIGHT
DTSTART:20181007T020000
TZOFFSETFROM:+1000
TZOFFSETTO:+1100
TZNAME:AEDT
END:DAYLIGHT
END:VTIMEZONE
BEGIN:VEVENT
UID:ai1ec-1267@dwcv.org.au/wp
DTSTAMP:20190301T074248Z
CATEGORIES;LANGUAGE=en-US:Other events
CONTACT:http://ausfancons.com/queerexpo/
DESCRIPTION:Australia’s first-ever LGBTI+ and Queer friendly pop-culture ev
 ent is on this weekend at the Melbourne Showgrounds on both Saturday and S
 unday.\nA Celebration of Diversity in all its forms\, Queer Expo brings VI
 P Celebrity Guests and Ticket Holders together to Celebrate Hope\, love an
 d equally without discrimination.\nAside from celebrity guests\, there wil
 l be panels\, discussions and learning opportunities on an array of LGBTI+
  subjects\, a traders hall\, and even a drag competition! So whether you i
 dentify as LGBTI+ or are an Ally\, then there’s something for everyone!\nT
 ickets: https://www.eventbrite.com.au/e/queerexpo-tickets-32251171121.
DTSTART;TZID=Australia/Melbourne:20170715T100000
DTEND;TZID=Australia/Melbourne:20170716T120400
GEO:-37.783458;+144.91744
LOCATION:Melbourne Show Grounds @ Epsom Rd\, Flemington VIC 3031\, Australi
 a
SEQUENCE:0
SUMMARY:Queer Expo
URL:http://dwcv.org.au/wp/event/queer-expo/
X-COST-TYPE:external
X-ALT-DESC;FMTTYPE=text/html:<!DOCTYPE HTML PUBLIC '-//W3C//DTD HTML 3.2//E
 N'>\\n<HTML>\\n<HEAD>\\n<TITLE></TITLE>\\n</HEAD>\\n<BODY><p>Australia’s f
 irst-ever LGBTI+ and Queer friendly pop-culture event is on this weekend a
 t the Melbourne Showgrounds on both Saturday and Sunday.</p>\n<p>A Celebra
 tion of Diversity in all its forms\, Queer Expo brings VIP Celebrity Guest
 s and Ticket Holders together to Celebrate Hope\, love and equally without
  discrimination.</p>\n<p>Aside from celebrity guests\, there will be panel
 s\, discussions and learning opportunities on an array of LGBTI+ subjects\
 , a traders hall\, and even a drag competition! So whether you identify as
  LGBTI+ or are an Ally\, then there’s something for everyone!</p>\n<p>Tick
 ets: <a class='ai1ec-ticket-url-exported' href='https://www.eventbrite.com
 .au/e/queerexpo-tickets-32251171121'>https://www.eventbrite.com.au/e/queer
 expo-tickets-32251171121</a>.</p></BODY></HTML>
X-COST:$80 weekend / $45 one day
X-TICKETS-URL:https://www.eventbrite.com.au/e/queerexpo-tickets-32251171121
END:VEVENT
END:VCALENDAR
