BEGIN:VCALENDAR
VERSION:2.0
PRODID:-//69.73.188.146//NONSGML kigkonsult.se iCalcreator 2.20//
CALSCALE:GREGORIAN
METHOD:PUBLISH
X-WR-CALNAME:Doctor Who Club of Victoria
X-WR-CALDESC:
X-FROM-URL:http://dwcv.org.au/wp
X-WR-TIMEZONE:Australia/Melbourne
BEGIN:VTIMEZONE
TZID:Australia/Melbourne
X-LIC-LOCATION:Australia/Melbourne
BEGIN:STANDARD
DTSTART:20190407T030000
TZOFFSETFROM:+1100
TZOFFSETTO:+1000
TZNAME:AEST
END:STANDARD
BEGIN:DAYLIGHT
DTSTART:20181007T020000
TZOFFSETFROM:+1000
TZOFFSETTO:+1100
TZNAME:AEDT
END:DAYLIGHT
END:VTIMEZONE
BEGIN:VEVENT
UID:ai1ec-1268@dwcv.org.au/wp
DTSTAMP:20190301T074348Z
CATEGORIES;LANGUAGE=en-US:Other events
CONTACT:
DESCRIPTION:Whether it is Doctor Who\, Star Wars\, Pokemon\, Minecraft or c
 osplay of any sort\, this is the event for you! Check out all the goods in
 cluding comics\, vintage gaming consoles\, fandom bits and pieces\, jewell
 ery and even shoes on the day\, not to mention food trucks from Melbourne.
 \nIn its third year\, we are rolling it out again\, and gradually getting 
 bigger and better every year! The organisers hope to have most of what was
  there last year\, plus more. With a big focus on family friendly stuff th
 is year to involve to little superheroes\, as well as some special guest c
 osplayers coming to show off their hard work!\nTickets: https://www.eventb
 rite.com/e/nerdmania-2017-tickets-35061680430.
DTSTART;TZID=Australia/Melbourne:20170722T100000
DTEND;TZID=Australia/Melbourne:20170722T170000
GEO:-36.381872;+145.410825
LOCATION:Multipurpose Pavillion @ Shepparton VIC 3630\, Australia
SEQUENCE:0
SUMMARY:Nerdmania (Shepparton)
URL:http://dwcv.org.au/wp/event/nerdmania-2017/
X-COST-TYPE:external
X-ALT-DESC;FMTTYPE=text/html:<!DOCTYPE HTML PUBLIC '-//W3C//DTD HTML 3.2//E
 N'>\\n<HTML>\\n<HEAD>\\n<TITLE></TITLE>\\n</HEAD>\\n<BODY><p>Whether it is
  Doctor Who\, Star Wars\, Pokemon\, Minecraft or cosplay of any sort\, thi
 s is the event for you! Check out all the goods including comics\, vintage
  gaming consoles\, fandom bits and pieces\, jewellery and even shoes on th
 e day\, not to mention food trucks from Melbourne.</p>\n<p>In its third ye
 ar\, we are rolling it out again\, and gradually getting bigger and better
  every year! The organisers hope to have most of what was there last year\
 , plus more. With a big focus on family friendly stuff this year to involv
 e to little superheroes\, as well as some special guest cosplayers coming 
 to show off their hard work!</p>\n<p>Tickets: <a class='ai1ec-ticket-url-e
 xported' href='https://www.eventbrite.com/e/nerdmania-2017-tickets-3506168
 0430'>https://www.eventbrite.com/e/nerdmania-2017-tickets-35061680430</a>.
 </p></BODY></HTML>
X-COST:$15 adults / $10 teens / $5 kids / $35 family
X-TICKETS-URL:https://www.eventbrite.com/e/nerdmania-2017-tickets-350616804
 30
END:VEVENT
END:VCALENDAR
