BEGIN:VCALENDAR
VERSION:2.0
PRODID:-//69.73.188.146//NONSGML kigkonsult.se iCalcreator 2.20//
CALSCALE:GREGORIAN
METHOD:PUBLISH
X-WR-CALNAME:Doctor Who Club of Victoria
X-WR-CALDESC:
X-FROM-URL:http://dwcv.org.au/wp
X-WR-TIMEZONE:Australia/Melbourne
BEGIN:VTIMEZONE
TZID:Australia/Melbourne
X-LIC-LOCATION:Australia/Melbourne
BEGIN:STANDARD
DTSTART:20190407T030000
TZOFFSETFROM:+1100
TZOFFSETTO:+1000
TZNAME:AEST
END:STANDARD
BEGIN:DAYLIGHT
DTSTART:20181007T020000
TZOFFSETFROM:+1000
TZOFFSETTO:+1100
TZNAME:AEDT
END:DAYLIGHT
END:VTIMEZONE
BEGIN:VEVENT
UID:ai1ec-1278@dwcv.org.au/wp
DTSTAMP:20190301T075426Z
CATEGORIES;LANGUAGE=en-US:DWCV events
CONTACT:0478 840 005\; secretary@dwcv.org.au
DESCRIPTION:<p>Join us for a fun relaxing afternoon as we explored and play
  some of the many Doctor Who themed games.</p>\n<p>Games include:</p>\n<ul
 >\n<li>Doctor Who Risk</li>\n<li>Doctor Who Monopoly</li>\n<li>Doctor Who 
 Trivial Pursuit</li>\n<li>Time Wars Board Game</li>\n<li>Doctor Who Electr
 onic Board Game</li>\n<li>Doctor Who Uno</li>\n<li>Doctor Who Cluedo</li>
 \n<li>… and more!</li>\n</ul>\n<p>We will also have  PlayStation 3 set up 
 with ‘The Eternity Clock’ and a computer with the Doctor Who Adventure Gam
 es.</p>\n<p>Or just chat and socialise with other members and fans. Or wat
 ch some episodes and clips in the screening room.</p>\n<p>This meeting is 
 fun for the whole family\, with games suitable for all ages!</p>\n<hr />\n
 <div class='line_t'>\n<h4>Meeting Information</h4>\n</div>\n<p><em><strong
 >Doors open @ 1:00 pm\, activities start @ 1:30 pm.</strong></em></p>\n<p>
 <strong>Admission Prices:</strong><br />\n<strong>—</strong>Members: $6.00
 * / Non-members: $8.00<br />\n<strong>—</strong>Kids under 14: $2.00 / Kid
 s under 2: Free<br />\n<strong>—</strong>Family (2 adults and kids): $14.0
 0 members / $18.00 non-members<br />\n<strong>—</strong>Non-member first-t
 ime attending a meeting: gold coin donation</p>\n<p><strong>Food and Drink
 :<br />\n—</strong>Tea and coffee provided\, soft drinks available to purc
 hase for $1.50.<br />\n<strong>—</strong>Some snacks are provided for no a
 dditional cost.<br />\n<strong>—</strong>Donations of a plate of food are 
 always appreciated but not necessary. 🙂<br />\n<strong>—</strong>Venue is 
 walking distance from food places if you wish to eat something more substa
 ntial.</p>\n<p><em>*Members can also choose to use their ‘one free meeting
  entry’ as part of their membership for this meeting.</em></p>
DTSTART;TZID=Australia/Melbourne:20180210T130000
DTEND;TZID=Australia/Melbourne:20180210T170000
GEO:-37.819841;+144.947552
LOCATION:The Hub Docklands @ 80 Harbour Esplanade\, Docklands VIC 3008\, Au
 stralia
SEQUENCE:0
SUMMARY:February DWCV Meeting: Games Day
URL:http://dwcv.org.au/wp/event/february-dwcv-meeting-2018/
X-COST-TYPE:free
X-COST:$6 members / $8 non-members
END:VEVENT
END:VCALENDAR
