BEGIN:VCALENDAR
VERSION:2.0
PRODID:-//69.73.188.146//NONSGML kigkonsult.se iCalcreator 2.20//
CALSCALE:GREGORIAN
METHOD:PUBLISH
X-WR-CALNAME:Doctor Who Club of Victoria
X-WR-CALDESC:
X-FROM-URL:http://dwcv.org.au/wp
X-WR-TIMEZONE:Australia/Melbourne
BEGIN:VTIMEZONE
TZID:Australia/Melbourne
X-LIC-LOCATION:Australia/Melbourne
BEGIN:STANDARD
DTSTART:20190407T030000
TZOFFSETFROM:+1100
TZOFFSETTO:+1000
TZNAME:AEST
END:STANDARD
BEGIN:DAYLIGHT
DTSTART:20181007T020000
TZOFFSETFROM:+1000
TZOFFSETTO:+1100
TZNAME:AEDT
END:DAYLIGHT
END:VTIMEZONE
BEGIN:VEVENT
UID:ai1ec-1279@dwcv.org.au/wp
DTSTAMP:20190301T075540Z
CATEGORIES;LANGUAGE=en-US:DWCV events
CONTACT:0478 840 005\; secretary@dwcv.org.au
DESCRIPTION:Doctor Who wouldn’t be the same without it’s heroes and compani
 ons. Companions allow us – the viewer – to have a human connection to the 
 time-travelling alien. While heroes come in all forms – human or alien – a
 nd can be found helping The Doctor..\nThis month we take a look at some of
  those who can be called The Doctor’s friends.\nWe will be running a coupl
 e of discussion panels on companions and heroes. We look back at the compa
 nions and heroes over the years. Followed by a countdown of the top 20 com
 panions.\nThere will also be a wrap up of the 2017 Christmas special. What
  we liked and didn’t like about it\, and what we thought of Jodie Whittake
 r’s first appearance as The Doctor.\nMeeting theme and information may be 
 subject to change without notice.\n\n\nMeeting Information\n\nDoors open @
  1:00 pm\, activities start @ 1:30 pm.\nAdmission Prices:\n—Members: $6.00
 * / Non-members: $8.00\n—Kids under 14: $2.00 / Kids under 2: Free\n—Famil
 y (2 adults and kids): $14.00 members / $18.00 non-members\n—Non-member fi
 rst-time attending a meeting: gold coin donation\nFood and Drink:\n—Tea an
 d coffee provided\, soft drinks available to purchase for $1.50.\n—Some sn
 acks are provided for no additional cost.\n—Donations of a plate of food a
 re always appreciated but not necessary. 🙂\n—Venue is walking distance fro
 m food places if you wish to eat something more substantial.\n*Members can
  also choose to use their ‘one free meeting entry’ as part of their member
 ship for this meeting.
DTSTART;TZID=Australia/Melbourne:20180310T130000
DTEND;TZID=Australia/Melbourne:20180310T170000
GEO:-37.819841;+144.947552
LOCATION:The Hub Docklands @ 80 Harbour Esplanade\, Docklands VIC 3008\, Au
 stralia
SEQUENCE:0
SUMMARY:March DWCV Meeting: Heroes and Companions
URL:http://dwcv.org.au/wp/event/march-dwcv-meeting-2018/
X-COST-TYPE:free
X-ALT-DESC;FMTTYPE=text/html:<!DOCTYPE HTML PUBLIC '-//W3C//DTD HTML 3.2//E
 N'>\\n<HTML>\\n<HEAD>\\n<TITLE></TITLE>\\n</HEAD>\\n<BODY><p>Doctor Who wo
 uldn’t be the same without it’s heroes and companions. Companions allow us
  – the viewer – to have a human connection to the time-travelling alien. W
 hile heroes come in all forms – human or alien – and can be found helping 
 The Doctor..</p>\n<p>This month we take a look at some of those who can be
  called The Doctor’s friends.</p>\n<p>We will be running a couple of discu
 ssion panels on companions and heroes. We look back at the companions and 
 heroes over the years. Followed by a countdown of the top 20 companions.</
 p>\n<p>There will also be a wrap up of the 2017 Christmas special. What we
  liked and didn’t like about it\, and what we thought of Jodie Whittaker’s
  first appearance as The Doctor.</p>\n<p><em>Meeting theme and information
  may be subject to change without notice.</em></p>\n<hr />\n<div class='li
 ne_t'>\n<h4><span style='text-decoration: underline\;'>Meeting Information
 </span></h4>\n</div>\n<p><em><strong>Doors open @ 1:00 pm\, activities sta
 rt @ 1:30 pm.</strong></em></p>\n<p><strong>Admission Prices:</strong><br 
 />\n<strong>—</strong>Members: $6.00* / Non-members: $8.00<br />\n<strong>
 —</strong>Kids under 14: $2.00 / Kids under 2: Free<br />\n<strong>—</stro
 ng>Family (2 adults and kids): $14.00 members / $18.00 non-members<br />\n
 <strong>—</strong>Non-member first-time attending a meeting: gold coin don
 ation</p>\n<p><strong>Food and Drink:<br />\n—</strong>Tea and coffee prov
 ided\, soft drinks available to purchase for $1.50.<br />\n<strong>—</stro
 ng>Some snacks are provided for no additional cost.<br />\n<strong>—</stro
 ng>Donations of a plate of food are always appreciated but not necessary. 
 🙂<br />\n<strong>—</strong>Venue is walking distance from food places if y
 ou wish to eat something more substantial.</p>\n<p><em>*Members can also c
 hoose to use their ‘one free meeting entry’ as part of their membership fo
 r this meeting.</em></p>\n</BODY></HTML>
X-COST:$6 members / $8 non-members
END:VEVENT
END:VCALENDAR
