BEGIN:VCALENDAR
VERSION:2.0
PRODID:-//69.73.188.146//NONSGML kigkonsult.se iCalcreator 2.20//
CALSCALE:GREGORIAN
METHOD:PUBLISH
X-WR-CALNAME:Doctor Who Club of Victoria
X-WR-CALDESC:
X-FROM-URL:http://dwcv.org.au/wp
X-WR-TIMEZONE:Australia/Melbourne
BEGIN:VTIMEZONE
TZID:Australia/Melbourne
X-LIC-LOCATION:Australia/Melbourne
BEGIN:STANDARD
DTSTART:20190407T030000
TZOFFSETFROM:+1100
TZOFFSETTO:+1000
TZNAME:AEST
END:STANDARD
BEGIN:DAYLIGHT
DTSTART:20181007T020000
TZOFFSETFROM:+1000
TZOFFSETTO:+1100
TZNAME:AEDT
END:DAYLIGHT
END:VTIMEZONE
BEGIN:VEVENT
UID:ai1ec-1280@dwcv.org.au/wp
DTSTAMP:20190301T075744Z
CATEGORIES;LANGUAGE=en-US:DWCV events
CONTACT:0478 840 005\; secretary@dwcv.org.au
DESCRIPTION:<ul>\n<li><strong>Guest Cosplayer Panel – </strong>our guest co
 splayers this year will be Cat and Nicola. If you were lucky enough to see
  them at Supanova\, their cosplays of Madame Vastra and Jenny were amazing
  to see\, with Madame Vastra’s makeup taking 4 hours to put on alone.<br /
 > </li>\n<li><strong>Robert Lloyd</strong> – unfortunately two of our plan
 ned guests from Illusionist Productions are no longer able to attend (we h
 ope to have them at a future meeting). However 1/3 of them is still coming
  along\, who is none other than our very own Robert Lloyd. You might have 
 seen him at such places as the <em><strong>Doctor Who Festival</strong></e
 m>\, <em><strong>The Science of Doctor Who</strong></em>\, or even his ver
 y own comedy production which he has performed around the world – <strong>
 <em>Who\, Me</em></strong>. He’s even appeared on the BBC documentary <em>
 <strong>Doctor Who: Earth Conquest</strong></em>. He’s Australia’s most fa
 mous Doctor Who fan!<br /> </li>\n<li><strong>Beginners Cosplay Panel: The
  Companions</strong> – Cosplay tips and advice for beginners\, this time w
 e take a look at how to cosplay some of the Doctor Who companions.</li>\n<
 /ul>\n<div class='line_t'>\n<hr />\n<h4><span style='text-decoration: unde
 rline\;'>Meeting Information</span></h4>\n</div>\n<p><em><strong>Doors ope
 n @ 1:00 pm\, activities start @ 1:30 pm.</strong></em></p>\n<p><strong>Ad
 mission Prices:</strong><br />\n<strong>—</strong>Members: $6.00* / Non-me
 mbers: $8.00<br />\n<strong>—</strong>Kids under 14: $2.00 / Kids under 2:
  Free<br />\n<strong>—</strong>Family (2 adults and kids): $14.00 members 
 / $18.00 non-members<br />\n<strong>—</strong>Non-member first-time attend
 ing a meeting: gold coin donation</p>\n<p><strong>Food and Drink:<br />\n—
 </strong>Tea and coffee provided\, soft drinks available to purchase for $
 1.50.<br />\n<strong>—</strong>Some snacks are provided for no additional 
 cost.<br />\n<strong>—</strong>Donations of a plate of food are always app
 reciated but not necessary. 🙂<br />\n<strong>—</strong>Venue is walking di
 stance from food places if you wish to eat something more substantial.</p>
 \n<p><em>*Members can also choose to use their ‘one free meeting entry’ as
  part of their membership for this meeting.</em></p>
DTSTART;TZID=Australia/Melbourne:20180512T130000
DTEND;TZID=Australia/Melbourne:20180512T170000
GEO:-37.819841;+144.947552
LOCATION:The Hub Docklands @ 80 Harbour Esplanade\, Docklands VIC 3008\, Au
 stralia
SEQUENCE:0
SUMMARY:May DWCV Meeting: Cosplay & Fan Day
URL:http://dwcv.org.au/wp/event/may-dwcv-meeting-2018/
X-COST-TYPE:free
X-COST:$6 members / $8 non-members
END:VEVENT
END:VCALENDAR
