BEGIN:VCALENDAR
VERSION:2.0
PRODID:-//69.73.188.146//NONSGML kigkonsult.se iCalcreator 2.20//
CALSCALE:GREGORIAN
METHOD:PUBLISH
X-WR-CALNAME:Doctor Who Club of Victoria
X-WR-CALDESC:
X-FROM-URL:http://dwcv.org.au/wp
X-WR-TIMEZONE:Australia/Melbourne
BEGIN:VTIMEZONE
TZID:Australia/Melbourne
X-LIC-LOCATION:Australia/Melbourne
BEGIN:STANDARD
DTSTART:20190407T030000
TZOFFSETFROM:+1100
TZOFFSETTO:+1000
TZNAME:AEST
END:STANDARD
BEGIN:DAYLIGHT
DTSTART:20181007T020000
TZOFFSETFROM:+1000
TZOFFSETTO:+1100
TZNAME:AEDT
END:DAYLIGHT
END:VTIMEZONE
BEGIN:VEVENT
UID:ai1ec-1281@dwcv.org.au/wp
DTSTAMP:20190301T075901Z
CATEGORIES;LANGUAGE=en-US:DWCV events
CONTACT:0478 840 005\; secretary@dwcv.org.au
DESCRIPTION:July is our Annual General Meeting. It’s when we give our membe
 rs and fans a chance to have their say on the direction of the club\, with
  an open forum and a member survey\, and look back on the past 12 months i
 n the club. We’ll also be holding elections for the incoming executive and
  general committee (must be a financial member to be able to vote\, but al
 l are welcome to view proceedings).\nOf course\, we don’t want to have jus
 t serious business\, so we’ve chosen a light-hearted theme to balance thin
 gs out. We’ll be looking at some of Doctor Who’s funniest moments from bot
 h classic and new series alike. There will be lots of clips and laughs and
  we’ll be asking the audience what their favourite light-hearted moments a
 re.\nWe’ll end the day with our committee induction ceremony\, where we in
 duct our incoming committee – Time Lord style.\n\n\nMeeting Information\n
 \nDoors open @ 1:00 pm\, activities start @ 1:30 pm.\nAdmission Prices:\n—
 Members: $6.00* / Non-members: $8.00\n—Kids under 14: $2.00 / Kids under 2
 : Free\n—Family (2 adults and kids): $14.00 members / $18.00 non-members\n
 —Non-member first-time attending a meeting: gold coin donation\nFood and D
 rink:\n—Tea and coffee provided\, soft drinks available to purchase for $1
 .50.\n—Some snacks are provided for no additional cost.\n—Donations of a p
 late of food are always appreciated but not necessary. 🙂\n—Venue is walkin
 g distance from food places if you wish to eat something more substantial.
 \n*Members can also choose to use their ‘one free meeting entry’ as part o
 f their membership for this meeting.
DTSTART;TZID=Australia/Melbourne:20180714T130000
DTEND;TZID=Australia/Melbourne:20180714T170000
GEO:-37.819841;+144.947552
LOCATION:The Hub Docklands @ 80 Harbour Esplanade\, Docklands VIC 3008\, Au
 stralia
SEQUENCE:0
SUMMARY:July DWCV Meeting: AGM / Comedy and Humour in Doctor Who
URL:http://dwcv.org.au/wp/event/july-dwcv-meeting-2018/
X-COST-TYPE:free
X-ALT-DESC;FMTTYPE=text/html:<!DOCTYPE HTML PUBLIC '-//W3C//DTD HTML 3.2//E
 N'>\\n<HTML>\\n<HEAD>\\n<TITLE></TITLE>\\n</HEAD>\\n<BODY><p>July is our A
 nnual General Meeting. It’s when we give our members and fans a chance to 
 have their say on the direction of the club\, with an open forum and a mem
 ber survey\, and look back on the past 12 months in the club. We’ll also b
 e holding elections for the incoming executive and general committee (must
  be a financial member to be able to vote\, but all are welcome to view pr
 oceedings).</p>\n<p>Of course\, we don’t want to have just serious busines
 s\, so we’ve chosen a light-hearted theme to balance things out. We’ll be 
 looking at some of Doctor Who’s funniest moments from both classic and new
  series alike. There will be lots of clips and laughs and we’ll be asking 
 the audience what their favourite light-hearted moments are.</p>\n<p>We’ll
  end the day with our committee induction ceremony\, where we induct our i
 ncoming committee – Time Lord style.</p>\n<hr />\n<div class='line_t'>\n<h
 4><span style='text-decoration: underline\;'>Meeting Information</span></h
 4>\n</div>\n<p><em><strong>Doors open @ 1:00 pm\, activities start @ 1:30 
 pm.</strong></em></p>\n<p><strong>Admission Prices:</strong><br />\n<stron
 g>—</strong>Members: $6.00* / Non-members: $8.00<br />\n<strong>—</strong>
 Kids under 14: $2.00 / Kids under 2: Free<br />\n<strong>—</strong>Family 
 (2 adults and kids): $14.00 members / $18.00 non-members<br />\n<strong>—<
 /strong>Non-member first-time attending a meeting: gold coin donation</p>
 \n<p><strong>Food and Drink:<br />\n—</strong>Tea and coffee provided\, so
 ft drinks available to purchase for $1.50.<br />\n<strong>—</strong>Some s
 nacks are provided for no additional cost.<br />\n<strong>—</strong>Donati
 ons of a plate of food are always appreciated but not necessary. 🙂<br />\n
 <strong>—</strong>Venue is walking distance from food places if you wish t
 o eat something more substantial.</p>\n<p><em>*Members can also choose to 
 use their ‘one free meeting entry’ as part of their membership for this me
 eting.</em></p>\n</BODY></HTML>
X-COST:$6 members / $8 non-members
END:VEVENT
END:VCALENDAR
