BEGIN:VCALENDAR
VERSION:2.0
PRODID:-//69.73.188.146//NONSGML kigkonsult.se iCalcreator 2.20//
CALSCALE:GREGORIAN
METHOD:PUBLISH
X-WR-CALNAME:Doctor Who Club of Victoria
X-WR-CALDESC:
X-FROM-URL:http://dwcv.org.au/wp
X-WR-TIMEZONE:Australia/Melbourne
BEGIN:VTIMEZONE
TZID:Australia/Melbourne
X-LIC-LOCATION:Australia/Melbourne
BEGIN:STANDARD
DTSTART:20190407T030000
TZOFFSETFROM:+1100
TZOFFSETTO:+1000
TZNAME:AEST
END:STANDARD
BEGIN:DAYLIGHT
DTSTART:20181007T020000
TZOFFSETFROM:+1000
TZOFFSETTO:+1100
TZNAME:AEDT
END:DAYLIGHT
END:VTIMEZONE
BEGIN:VEVENT
UID:ai1ec-1283@dwcv.org.au/wp
DTSTAMP:20190301T080733Z
CATEGORIES;LANGUAGE=en-US:DWCV events
CONTACT:0478 840 005\; secretary@dwcv.org.au
DESCRIPTION:It’s our biggest event of the year – we celebrate Doctor Who’s 
 55th Anniversary and throw in a bit of Christmas cheer as well.\nPanels—\n
 \nKid’s Panel: some of our kids share their opinions on the Christmas Spec
 ials\nSeason 11 Review: we look at season 11 so far.\nWhere to Next: where
  do you want to see Doctor Who go in the near future?\n\nActivities—\n\nTr
 ivia Quiz: form a team and join in our interactive trivia quiz!\nGames: Ad
 ipose Toss\, Pin the Eyebrows on the Doctor\nJunior Time Lords: our newly 
 re-named kids corner will have lots of activities for kids including Chris
 tmas Cards\, banner decorating\, Gallifreyan writing and more.\nCyber Sant
 a will be back with lolly bags for all in attendance.\n\nCompetitions and 
 Prizes—\n\nDWCV Passport Challenge: complete various activities throughout
  the day and get your passport stamped for a chance to win a $50 Minotaur 
 voucher.\nThe Great Whovian Bake-Off: we will again be running our Doctor 
 Who themed cooking competition. Bring along a Doctor Who themed food item 
 for a chance to win a prize.\nRaffle: chance to win a Whovian Christmas ha
 mper\, 13th Doctor’s Sonic Screwdriver or a 13th Doctor Rock Candy figure.
  Tickets for $2 or 3 for $5.\nCosplay: prizes for best adult and best kids
  cosplay.\n\nFor the Buyer—\n\nMystery Boxes: our popular mystery boxes ar
 e back again – up to $50 value for $15. You’ll have to get in early\, as l
 ast year these sold out in 15 minutes!\nMarket Stalls: a range of sellers 
 will be selling their Whovian wares\, from official merchandise\, DVDs and
  books and hand-made items. You’ll also be able to buy the 13th Doctor’s S
 onic Screwdriver!\nSilent Auction: we will have a few items available in a
  silent auction for your bidding persual.\n\nWe’ll also have our classic T
 ARDIS on site\, so take your photo and be sure to tag us on social media. 
 #DWCVparty #DoctorWhoVic\nA limited number of tables are still available t
 o sell merchandise or other related items. Please email bookings@dwcv.org.
 au if you are interested.\nSave the date for 2018!\nPlease note that this 
 year’s meeting is later than usual as our venue has a regular weekly booki
 ng in the morning/early afternoon. All kids activities will be run earlier
  in the day to accommodate families that need to leave earlier. Also with 
 the Victorian State Election on this day\, the earlier time gives people a
 mple chance to get voting done!\nInformation subject to change without pri
 or notice.\n\n\nMeeting Information\n\nDoors open @ 2:00 pm\, activities s
 tart @ 2:30 pm.\nAdmission Prices:\n—Members: $10.00 / Non-members: $12.00
 \n—Kids 16 and under: $5.00 / Kids under 2: Free\n—Family (2 adults and ki
 ds): $25.00 members / $30.00 non-members\nFood and Drink:\n—Tea and coffee
  provided\, soft drinks and bottled water available to purchase for $1.50.
 \n—Bring a plate to share (optional\, not required for entry). Feeling cre
 ative? Bring something Doctor Who themed and you might win a prize!\n—Some
  finger food and snacks provided for no additional cost.\n—Pizza dinner wi
 ll be provided (included in entry cost).\n*Please note that due to this me
 eting being larger than our usual meetings\, members aren’t able to use th
 eir free meeting entry.\n*Gold coin donation for first time visitors does 
 not apply to this meeting (sorry!).
DTSTART;TZID=Australia/Melbourne:20181124T140000
DTEND;TZID=Australia/Melbourne:20181124T190000
GEO:-37.819841;+144.947552
LOCATION:The Hub Docklands @ 80 Harbour Esplanade\, Docklands VIC 3008\, Au
 stralia
SEQUENCE:0
SUMMARY:Doctor Who Anniversary and Christmas Party
URL:http://dwcv.org.au/wp/event/dwcv-anniversary-party-2018/
X-COST-TYPE:free
X-ALT-DESC;FMTTYPE=text/html:<!DOCTYPE HTML PUBLIC '-//W3C//DTD HTML 3.2//E
 N'>\\n<HTML>\\n<HEAD>\\n<TITLE></TITLE>\\n</HEAD>\\n<BODY><p>It’s our bigg
 est event of the year – we celebrate Doctor Who’s 55th Anniversary and thr
 ow in a bit of Christmas cheer as well.</p>\n<p><strong>Panels—</strong></
 p>\n<ul>\n<li><em>Kid’s Panel:</em> some of our kids share their opinions 
 on the Christmas Specials</li>\n<li><em>Season 11 Review:</em> we look at 
 season 11 so far.</li>\n<li><em>Where to Next:</em> where do you want to s
 ee Doctor Who go in the near future?</li>\n</ul>\n<p><strong>Activities—</
 strong></p>\n<ul>\n<li><em>Trivia Quiz:</em> form a team and join in our i
 nteractive trivia quiz!</li>\n<li><em>Games:</em> Adipose Toss\, Pin the E
 yebrows on the Doctor</li>\n<li><em>Junior Time Lords:</em> our newly re-n
 amed kids corner will have lots of activities for kids including Christmas
  Cards\, banner decorating\, Gallifreyan writing and more.</li>\n<li><em>C
 yber Santa</em> will be back with lolly bags for all in attendance.</li>\n
 </ul>\n<p><strong>Competitions and Prizes—</strong></p>\n<ul>\n<li><em>DWC
 V Passport Challenge:</em> complete various activities throughout the day 
 and get your passport stamped for a chance to win a $50 Minotaur voucher.<
 /li>\n<li><em>The Great Whovian Bake-Off:</em> we will again be running ou
 r Doctor Who themed cooking competition. Bring along a Doctor Who themed f
 ood item for a chance to win a prize.</li>\n<li><em>Raffle:</em> chance to
  win a Whovian Christmas hamper\, 13th Doctor’s Sonic Screwdriver or a 13t
 h Doctor Rock Candy figure. Tickets for $2 or 3 for $5.</li>\n<li><em>Cosp
 lay:</em> prizes for best adult and best kids cosplay.</li>\n</ul>\n<p><st
 rong>For the Buyer—</strong></p>\n<ul>\n<li><em>Mystery Boxes:</em> our po
 pular mystery boxes are back again – up to $50 value for $15. You’ll have 
 to get in early\, as last year these sold out in 15 minutes!</li>\n<li><em
 >Market Stalls:</em> a range of sellers will be selling their Whovian ware
 s\, from official merchandise\, DVDs and books and hand-made items. You’ll
  also be able to buy the 13th Doctor’s Sonic Screwdriver!</li>\n<li><em>Si
 lent Auction:</em> we will have a few items available in a silent auction 
 for your bidding persual.</li>\n</ul>\n<p>We’ll also have our classic TARD
 IS on site\, so take your photo and be sure to tag us on social media. <st
 rong>#DWCVparty #DoctorWhoVic</strong></p>\n<p>A limited number of tables 
 are still available to sell merchandise or other related items. Please ema
 il bookings@dwcv.org.au if you are interested.</p>\n<p><strong>Save the da
 te for 2018!</strong></p>\n<p><em>Please note that this year’s meeting is 
 later than usual as our venue has a regular weekly booking in the morning/
 early afternoon. All kids activities will be run earlier in the day to acc
 ommodate families that need to leave earlier. Also with the Victorian Stat
 e Election on this day\, the earlier time gives people ample chance to get
  voting done!</em></p>\n<p><em>Information subject to change without prior
  notice.</em></p>\n<div class='line_t'>\n<hr />\n<h4>Meeting Information</
 h4>\n</div>\n<p><strong>Doors open @ 2:00 pm\, activities start @ 2:30 pm.
 </strong></p>\n<p><strong>Admission Prices:</strong><br />\n<strong>—</str
 ong>Members: $10.00 / Non-members: $12.00<br />\n<strong>—</strong>Kids 16
  and under: $5.00 / Kids under 2: Free<br />\n<strong>—</strong>Family (2 
 adults and kids): $25.00 members / $30.00 non-members</p>\n<p><strong>Food
  and Drink:<br />\n—</strong>Tea and coffee provided\, soft drinks and bot
 tled water available to purchase for $1.50.<br />\n<strong>—</strong>Bring
  a plate to share (optional\, not required for entry). Feeling creative? B
 ring something Doctor Who themed and you might win a prize!<br />\n<strong
 >—</strong>Some finger food and snacks provided for no additional cost.<br
  />\n<strong>—</strong>Pizza dinner will be provided (included in entry co
 st).</p>\n<p><em>*Please note that due to this meeting being larger than o
 ur usual meetings\, members aren’t able to use their free meeting entry.<b
 r />\n*Gold coin donation for first time visitors does not apply to this m
 eeting (sorry!).</em></p>\n</BODY></HTML>
X-COST:$10 members / $12 non-members
END:VEVENT
END:VCALENDAR
