BEGIN:VCALENDAR
VERSION:2.0
PRODID:-//69.73.188.146//NONSGML kigkonsult.se iCalcreator 2.20//
CALSCALE:GREGORIAN
METHOD:PUBLISH
X-WR-CALNAME:Doctor Who Club of Victoria
X-WR-CALDESC:
X-FROM-URL:http://dwcv.org.au/wp
X-WR-TIMEZONE:Australia/Melbourne
BEGIN:VTIMEZONE
TZID:Australia/Melbourne
X-LIC-LOCATION:Australia/Melbourne
BEGIN:STANDARD
DTSTART:20190407T030000
TZOFFSETFROM:+1100
TZOFFSETTO:+1000
TZNAME:AEST
END:STANDARD
BEGIN:DAYLIGHT
DTSTART:20181007T020000
TZOFFSETFROM:+1000
TZOFFSETTO:+1100
TZNAME:AEDT
END:DAYLIGHT
END:VTIMEZONE
BEGIN:VEVENT
UID:ai1ec-1291@dwcv.org.au/wp
DTSTAMP:20190301T074603Z
CATEGORIES;LANGUAGE=en-US:Other events
CONTACT:https://bendigorctfair.wordpress.com/
DESCRIPTION:The Bendigo Record\, Comic and Toy Fair has collectables of all
  kinds – whether it’s hand-made crafts\, pop-culture merchandise\, retro t
 oys and games\, or that lost piece of music you might be looking for. Ther
 e are over 100 tables of dealers.\nWe will also be in attendance with a ta
 ble\, so drop by and say hello to us —and to our friends the Bendigo Whovi
 ans while you’re there!\nCosplayers can enter the Bendigo Cosplay Contest 
 ($5 entry fee\, proceeds go to the Peter Mac Foundation).\nEntry to the fa
 ir is only $5\, however an early-bird entry fee of $10 is available for th
 ose bargain hunters wanting to get in first!
DTSTART;TZID=Australia/Melbourne:20171015T100000
DTEND;TZID=Australia/Melbourne:20171015T160000
GEO:-36.737371;+144.273663
LOCATION:Bendigo Exhibition Centre @ Prince of Wales Showgrounds\, Holmes R
 d\, North Bendigo VIC 3550\, Australia
SEQUENCE:0
SUMMARY:The Bendigo Record\, Comic and Toy Fair
URL:http://dwcv.org.au/wp/event/the-bendigo-record-comic-and-toy-fair/
X-COST-TYPE:free
X-ALT-DESC;FMTTYPE=text/html:<!DOCTYPE HTML PUBLIC '-//W3C//DTD HTML 3.2//E
 N'>\\n<HTML>\\n<HEAD>\\n<TITLE></TITLE>\\n</HEAD>\\n<BODY><p>The Bendigo R
 ecord\, Comic and Toy Fair has collectables of all kinds – whether it’s ha
 nd-made crafts\, pop-culture merchandise\, retro toys and games\, or that 
 lost piece of music you might be looking for. There are over 100 tables of
  dealers.</p>\n<p>We will also be in attendance with a table\, so drop by 
 and say hello to us —and to our friends the Bendigo Whovians while you’re 
 there!</p>\n<p>Cosplayers can enter the Bendigo Cosplay Contest ($5 entry 
 fee\, proceeds go to the Peter Mac Foundation).</p>\n<p>Entry to the fair 
 is only $5\, however an early-bird entry fee of $10 is available for those
  bargain hunters wanting to get in first!</p>\n</BODY></HTML>
X-COST:$5.00 / $10.00 (early-bird)
END:VEVENT
END:VCALENDAR
