BEGIN:VCALENDAR
VERSION:2.0
PRODID:-//69.73.188.146//NONSGML kigkonsult.se iCalcreator 2.20//
CALSCALE:GREGORIAN
METHOD:PUBLISH
X-WR-CALNAME:Doctor Who Club of Victoria
X-WR-CALDESC:
X-FROM-URL:http://dwcv.org.au/wp
X-WR-TIMEZONE:Australia/Melbourne
BEGIN:VTIMEZONE
TZID:Australia/Melbourne
X-LIC-LOCATION:Australia/Melbourne
BEGIN:STANDARD
DTSTART:20190407T030000
TZOFFSETFROM:+1100
TZOFFSETTO:+1000
TZNAME:AEST
END:STANDARD
BEGIN:DAYLIGHT
DTSTART:20181007T020000
TZOFFSETFROM:+1000
TZOFFSETTO:+1100
TZNAME:AEDT
END:DAYLIGHT
END:VTIMEZONE
BEGIN:VEVENT
UID:ai1ec-1292@dwcv.org.au/wp
DTSTAMP:20190301T074707Z
CATEGORIES;LANGUAGE=en-US:Other events
CONTACT:Roy's Toys and Collectibles\; https://www.facebook.com/events/14390
 6789469692/
DESCRIPTION:it’s on again!!\nDeza-Con-IV brings you all the best in Pop cul
 ture\, including toys\, comics\, video games traders\, cosplay artists\, c
 ustom artists\, video games Gamezone\, cosplay competition\, and featuring
  for the first time Artists Alley!\nPlease note that this event is in a sl
 ightly different location than previously – just across the road.
DTSTART;TZID=Australia/Melbourne:20171021T100000
DTEND;TZID=Australia/Melbourne:20171021T160000
GEO:-38.026603;+145.30547
LOCATION:Narre Community Learning Centre @ 4 Malcolm Ct\, Narre Warren VIC 
 3805\, Australia
SEQUENCE:0
SUMMARY:Deza-Con IV
URL:http://dwcv.org.au/wp/event/deza-con-iv/
X-COST-TYPE:free
X-ALT-DESC;FMTTYPE=text/html:<!DOCTYPE HTML PUBLIC '-//W3C//DTD HTML 3.2//E
 N'>\\n<HTML>\\n<HEAD>\\n<TITLE></TITLE>\\n</HEAD>\\n<BODY><p>it’s on again
 !!</p>\n<p>Deza-Con-IV brings you all the best in Pop culture\, including 
 toys\, comics\, video games traders\, cosplay artists\, custom artists\, v
 ideo games Gamezone\, cosplay competition\, and featuring for the first ti
 me Artists Alley!</p>\n<p>Please note that this event is in a slightly dif
 ferent location than previously – just across the road.</p>\n</BODY></HTML
 >
X-COST:$5.00 / Kids Free
END:VEVENT
END:VCALENDAR
