BEGIN:VCALENDAR
VERSION:2.0
PRODID:-//69.73.188.146//NONSGML kigkonsult.se iCalcreator 2.20//
CALSCALE:GREGORIAN
METHOD:PUBLISH
X-WR-CALNAME:Doctor Who Club of Victoria
X-WR-CALDESC:
X-FROM-URL:http://dwcv.org.au/wp
X-WR-TIMEZONE:Australia/Melbourne
BEGIN:VTIMEZONE
TZID:Australia/Melbourne
X-LIC-LOCATION:Australia/Melbourne
BEGIN:STANDARD
DTSTART:20190407T030000
TZOFFSETFROM:+1100
TZOFFSETTO:+1000
TZNAME:AEST
END:STANDARD
BEGIN:DAYLIGHT
DTSTART:20181007T020000
TZOFFSETFROM:+1000
TZOFFSETTO:+1100
TZNAME:AEDT
END:DAYLIGHT
END:VTIMEZONE
BEGIN:VEVENT
UID:ai1ec-1294@dwcv.org.au/wp
DTSTAMP:20190301T075224Z
CATEGORIES;LANGUAGE=en-US:Other events
CONTACT:http://gippslandgeekfest.blogspot.com.au/
DESCRIPTION:GeekFest was created as a celebration of geek culture\; an incl
 usive\, supportive and all-ages event\, Geekfest will feature the best of 
 popular culture – from comics to cosplay\, steampunk to superheroes and th
 e whole scope of gaming culture.\nGeekFest will provide events such as dem
 onstration and participation wargames\, role-playing sessions\, a cosplay 
 contest and a range of traders.\nHeld at Coal Creek Community Park and Mus
 eum in Korumburra on January 21st 2018\, the event will take place in a un
 iquely atmospheric location\, with events themed to the environment.\nThis
  year’s GeekFest will include a world record attempt for Doctor Who cospla
 y\, so we encourage all Doctor Who fans to come along to the event.
DTSTART;TZID=Australia/Melbourne:20180121T100000
DTEND;TZID=Australia/Melbourne:20180121T160000
GEO:-38.441984;+145.830546
LOCATION:Coal Creek Community Park and Museum @ Coal Creek Community Park &
  Museum\, 12 Silkstone Rd\, Korumburra VIC 3950\, Australia
SEQUENCE:0
SUMMARY:Gippsland Geekfest
URL:http://dwcv.org.au/wp/event/gippsland-geekfest/
X-COST-TYPE:free
X-ALT-DESC;FMTTYPE=text/html:<!DOCTYPE HTML PUBLIC '-//W3C//DTD HTML 3.2//E
 N'>\\n<HTML>\\n<HEAD>\\n<TITLE></TITLE>\\n</HEAD>\\n<BODY><p>GeekFest was 
 created as a celebration of geek culture\; an inclusive\, supportive and a
 ll-ages event\, Geekfest will feature the best of popular culture – from c
 omics to cosplay\, steampunk to superheroes and the whole scope of gaming 
 culture.</p>\n<p>GeekFest will provide events such as demonstration and pa
 rticipation wargames\, role-playing sessions\, a cosplay contest and a ran
 ge of traders.</p>\n<p>Held at Coal Creek Community Park and Museum in Kor
 umburra on January 21st 2018\, the event will take place in a uniquely atm
 ospheric location\, with events themed to the environment.</p>\n<p>This ye
 ar’s GeekFest will include a world record attempt for Doctor Who cosplay\,
  so we encourage all Doctor Who fans to come along to the event.</p>\n</BO
 DY></HTML>
X-COST:$15-$25
END:VEVENT
END:VCALENDAR
