BEGIN:VCALENDAR
VERSION:2.0
PRODID:-//69.73.188.146//NONSGML kigkonsult.se iCalcreator 2.20//
CALSCALE:GREGORIAN
METHOD:PUBLISH
X-WR-CALNAME:Doctor Who Club of Victoria
X-WR-CALDESC:
X-FROM-URL:http://dwcv.org.au/wp
X-WR-TIMEZONE:Australia/Melbourne
BEGIN:VTIMEZONE
TZID:Australia/Melbourne
X-LIC-LOCATION:Australia/Melbourne
BEGIN:STANDARD
DTSTART:20190407T030000
TZOFFSETFROM:+1100
TZOFFSETTO:+1000
TZNAME:AEST
END:STANDARD
BEGIN:DAYLIGHT
DTSTART:20181007T020000
TZOFFSETFROM:+1000
TZOFFSETTO:+1100
TZNAME:AEDT
END:DAYLIGHT
END:VTIMEZONE
BEGIN:VEVENT
UID:ai1ec-1295@dwcv.org.au/wp
DTSTAMP:20190301T075123Z
CATEGORIES;LANGUAGE=en-US:Other events
CONTACT:Melbourne Arts Centre\; https://www.artscentremelbourne.com.au/what
 s-on/2018/musicals/john-barrowman
DESCRIPTION:“Anything Goes” at a John Barrowman concert.\nExclusive to Melb
 ourne\, spend an intimate evening of songs\, stories and laughter with the
  incomparable John Barrowman. From West End leading man to time-travelling
  hero\, John is the epitome of entertainment.\nFamous for his portrayal as
  the charming Captain Jack Harkness in BBC’s Doctor Who\, John’s character
  was so popular he was given his own hugely successful spin-off\, Torchwoo
 d\, and starred as Malcolm Merlyn in five seasons of Arrow.\nWhen it comes
  to the stage\, John’s musical theatre career has seen him star in many We
 st End shows\, including Anything Goes\, Miss Saigon\, The Phantom Of The 
 Opera and La Cage Aux Folles.\nWith boundless energy and an incredible voi
 ce to match\, John’s charismatic stage presence will leave you breathless\
 , with a smile as big as John’s on your face. \nFrom Sting to Sondheim\, C
 ole Porter to Barry Manilow\, Big Band to Motown\, join John for a raucous
  repertoire of beloved classics (with a few surprises in between).\nTicket
 s: https://www.artscentremelbourne.com.au/whats-on/2018/musicals/john-barr
 owman.
DTSTART;TZID=Australia/Melbourne:20180116T190000
GEO:-37.820148;+144.967987
LOCATION:Hamer Hall @ 100 St Kilda Rd\, Melbourne VIC 3004\, Australia
SEQUENCE:0
SUMMARY:John Barrowman in Concert
URL:http://dwcv.org.au/wp/event/john-barrowman-in-concert/
X-COST-TYPE:external
X-ALT-DESC;FMTTYPE=text/html:<!DOCTYPE HTML PUBLIC '-//W3C//DTD HTML 3.2//E
 N'>\\n<HTML>\\n<HEAD>\\n<TITLE></TITLE>\\n</HEAD>\\n<BODY><p>“Anything Goe
 s” at a John Barrowman concert.</p>\n<p>Exclusive to Melbourne\, spend an 
 intimate evening of songs\, stories and laughter with the incomparable Joh
 n Barrowman. From West End leading man to time-travelling hero\, John is t
 he epitome of entertainment.<br />\nFamous for his portrayal as the charmi
 ng Captain Jack Harkness in BBC’s Doctor Who\, John’s character was so pop
 ular he was given his own hugely successful spin-off\, Torchwood\, and sta
 rred as Malcolm Merlyn in five seasons of Arrow.</p>\n<p>When it comes to 
 the stage\, John’s musical theatre career has seen him star in many West E
 nd shows\, including Anything Goes\, Miss Saigon\, The Phantom Of The Oper
 a and La Cage Aux Folles.</p>\n<p>With boundless energy and an incredible 
 voice to match\, John’s charismatic stage presence will leave you breathle
 ss\, with a smile as big as John’s on your face. </p>\n<p>From Sting to So
 ndheim\, Cole Porter to Barry Manilow\, Big Band to Motown\, join John for
  a raucous repertoire of beloved classics (with a few surprises in between
 ).</p>\n<p>Tickets: <a class='ai1ec-ticket-url-exported' href='https://www
 .artscentremelbourne.com.au/whats-on/2018/musicals/john-barrowman'>https:/
 /www.artscentremelbourne.com.au/whats-on/2018/musicals/john-barrowman</a>.
 </p></BODY></HTML>
X-COST:$68.00 - $250.00
X-TICKETS-URL:https://www.artscentremelbourne.com.au/whats-on/2018/musicals
 /john-barrowman
X-INSTANT-EVENT:1
END:VEVENT
END:VCALENDAR
