BEGIN:VCALENDAR
VERSION:2.0
PRODID:-//69.73.188.146//NONSGML kigkonsult.se iCalcreator 2.20//
CALSCALE:GREGORIAN
METHOD:PUBLISH
X-WR-CALNAME:Doctor Who Club of Victoria
X-WR-CALDESC:
X-FROM-URL:http://dwcv.org.au/wp
X-WR-TIMEZONE:Australia/Melbourne
BEGIN:VTIMEZONE
TZID:Australia/Melbourne
X-LIC-LOCATION:Australia/Melbourne
BEGIN:STANDARD
DTSTART:20190407T030000
TZOFFSETFROM:+1100
TZOFFSETTO:+1000
TZNAME:AEST
END:STANDARD
BEGIN:DAYLIGHT
DTSTART:20181007T020000
TZOFFSETFROM:+1000
TZOFFSETTO:+1100
TZNAME:AEDT
END:DAYLIGHT
END:VTIMEZONE
BEGIN:VEVENT
UID:ai1ec-1313@dwcv.org.au/wp
DTSTAMP:20190301T074912Z
CATEGORIES;LANGUAGE=en-US:DWCV events
CONTACT:
DESCRIPTION:Come along to our Christmas Lunch and relax and chat with other
  members and fans. This is an informal lunch and just a chance for people 
 to unwind at the end of the year.\nThis year we’ll be having our Christmas
  Lunch at the Melbourne Central Lion Hotel (we will be in the back area). 
 This venue is right in the middle of the city\, easy to get to for both pu
 blic transport and paid car parks in the area.\nMenu: http://www.acemelbou
 rne.com.au/mclion/menu/\n** Please note that bookings are essential so tha
 t we can adjust our booking if necessary for the required amount of people
 . Bookings must be received before midnight\, Thursday 7th December **\nTo
  book please phone/text 0478 840 005 or email secretary@dwcv.org.au.\nWe a
 lso will be running a secret Santa (optional) for both adults and kids. Fo
 r those who wish to participate this\, please bring along a gift on the da
 y. Gifts should be gender-neutral\, wrapped and cost between $10 – $15. If
  bringing a kids gift\, please mark on the outside that it will be for kid
 s\, so that they don’t get mixed up with the adult gifts.
DTSTART;TZID=Australia/Melbourne:20171210T120000
GEO:-37.810597;+144.962707
LOCATION:Melbourne Central Red Lion Hotel @ 211 La Trobe St\, Melbourne VIC
  3000\, Australia
SEQUENCE:0
SUMMARY:DWCV Christmas Lunch
URL:http://dwcv.org.au/wp/event/dwcv-christmas-lunch-2017/
X-COST-TYPE:free
X-ALT-DESC;FMTTYPE=text/html:<!DOCTYPE HTML PUBLIC '-//W3C//DTD HTML 3.2//E
 N'>\\n<HTML>\\n<HEAD>\\n<TITLE></TITLE>\\n</HEAD>\\n<BODY><p>Come along to
  our Christmas Lunch and relax and chat with other members and fans. This 
 is an informal lunch and just a chance for people to unwind at the end of 
 the year.</p>\n<p>This year we’ll be having our Christmas Lunch at the Mel
 bourne Central Lion Hotel (we will be in the back area). This venue is rig
 ht in the middle of the city\, easy to get to for both public transport an
 d paid car parks in the area.</p>\n<p>Menu: <a href='http://www.acemelbour
 ne.com.au/mclion/menu/'>http://www.acemelbourne.com.au/mclion/menu/</a></p
 >\n<p>** Please note that bookings are essential so that we can adjust our
  booking if necessary for the required amount of people. Bookings must be 
 received before midnight\, Thursday 7th December **</p>\n<p>To book please
  phone/text 0478 840 005 or email secretary@dwcv.org.au.</p>\n<p>We also w
 ill be running a secret Santa (optional) for both adults and kids. For tho
 se who wish to participate this\, please bring along a gift on the day. Gi
 fts should be gender-neutral\, wrapped and cost between $10 – $15. If brin
 ging a kids gift\, please mark on the outside that it will be for kids\, s
 o that they don’t get mixed up with the adult gifts.</p>\n</BODY></HTML>
X-INSTANT-EVENT:1
END:VEVENT
END:VCALENDAR
