BEGIN:VCALENDAR
VERSION:2.0
PRODID:-//69.73.188.146//NONSGML kigkonsult.se iCalcreator 2.20//
CALSCALE:GREGORIAN
METHOD:PUBLISH
X-WR-CALNAME:Doctor Who Club of Victoria
X-WR-CALDESC:
X-FROM-URL:http://dwcv.org.au/wp
X-WR-TIMEZONE:Australia/Melbourne
BEGIN:VTIMEZONE
TZID:Australia/Melbourne
X-LIC-LOCATION:Australia/Melbourne
BEGIN:STANDARD
DTSTART:20190407T030000
TZOFFSETFROM:+1100
TZOFFSETTO:+1000
TZNAME:AEST
END:STANDARD
BEGIN:DAYLIGHT
DTSTART:20181007T020000
TZOFFSETFROM:+1000
TZOFFSETTO:+1100
TZNAME:AEDT
END:DAYLIGHT
END:VTIMEZONE
BEGIN:VEVENT
UID:ai1ec-1314@dwcv.org.au/wp
DTSTAMP:20190301T075008Z
CATEGORIES;LANGUAGE=en-US:DWCV events
CONTACT:
DESCRIPTION:<p>Come along and join the DWCV for the screening of Twice Upon
  a Time on Boxing Day.</p>\n<p>We will be attending the 12:00 pm screening
  at Village Cinemas Jam Factory.</p>\n<p>Book tickets in advance or on the
  day. For tickets\, go to: <a href='http://villagecinemas.com.au/sessions#
 &&movie=Doctor+Who%3a+Twice+Upon+a+Time' target='_blank' rel='nofollow noo
 pener' data-lynx-mode='async' data-lynx-uri='https://l.facebook.com/l.php?
 u=http%3A%2F%2Fvillagecinemas.com.au%2Fsessions%23%26%26movie%3DDoctor%2BW
 ho%253a%2BTwice%2BUpon%2Ba%2BTime&h=ATPtMB5irwmEFRBuRnLItHmt8hbF1ybJAjEhBh
 OTGfBCk1mL-q4ob4TEBT4i3ckEgB78qj9gW-JEejln6uAaepYdzamg4idkCke77pNz2Tu2vuo6
 Y13ERHQuvfUBU7wMa0jcvdPLWYJBulRTzhkhVoU2imZiXnd-GZ_O1eV0lLYA00L6B-NbpMTSiQ
 BGmvk'>http://<wbr />villagecinemas.com.au/<wbr />sessions#&&movie=Doctor+
 Who<wbr />%3a+Twice+Upon+a+Time</a></p>\n<p>Afterwards\, we will be having
  a late lunch at Soda Rock Diner\, which is on the outside of the Jam Fact
 ory.</p>\n<p>Tickets: <a class='ai1ec-ticket-url-exported' href='http://vi
 llagecinemas.com.au/sessions#&&movie=Doctor+Who%3a+Twice+Upon+a+Time'>http
 ://villagecinemas.com.au/sessions#&&movie=Doctor+Who%3a+Twice+Upon+a+Time<
 /a>.</p>
DTSTART;TZID=Australia/Melbourne:20171226T120000
GEO:-37.842631;+144.995815
LOCATION:Village Cinemas Jam Factory @ 500 Chapel St\, South Yarra VIC 3141
 \, Australia
SEQUENCE:0
SUMMARY:Once Upon a Time Cinema Screening
URL:http://dwcv.org.au/wp/event/once-upon-a-time-cinema-screening/
X-COST-TYPE:external
X-TICKETS-URL:http://villagecinemas.com.au/sessions#&&movie=Doctor+Who%3a+T
 wice+Upon+a+Time
X-INSTANT-EVENT:1
END:VEVENT
END:VCALENDAR
