BEGIN:VCALENDAR
VERSION:2.0
PRODID:-//69.73.188.146//NONSGML kigkonsult.se iCalcreator 2.20//
CALSCALE:GREGORIAN
METHOD:PUBLISH
X-WR-CALNAME:Doctor Who Club of Victoria
X-WR-CALDESC:
X-FROM-URL:http://dwcv.org.au/wp
X-WR-TIMEZONE:Australia/Melbourne
BEGIN:VTIMEZONE
TZID:Australia/Melbourne
X-LIC-LOCATION:Australia/Melbourne
BEGIN:STANDARD
DTSTART:20190407T030000
TZOFFSETFROM:+1100
TZOFFSETTO:+1000
TZNAME:AEST
END:STANDARD
BEGIN:DAYLIGHT
DTSTART:20181007T020000
TZOFFSETFROM:+1000
TZOFFSETTO:+1100
TZNAME:AEDT
END:DAYLIGHT
END:VTIMEZONE
BEGIN:VEVENT
UID:ai1ec-1338@dwcv.org.au/wp
DTSTAMP:20190301T075641Z
CATEGORIES;LANGUAGE=en-US:Other events
CONTACT:http://www.supanova.com.au/
DESCRIPTION:This year’s Supanova Expo is a huge one for Doctor Who fans. Wi
 th not one\, not two\, but three Doctor Who guests! Peter Capaldi (12th Do
 ctor)\, Pearl Mackie (Bill Potts) and John Barrowman (Captain Jack Harknes
 s) will all be at this year’s Melbourne event.\nOther guests include:\n\nA
 lan Tudyk – Firefly/Serenity\, Rogue One\nTom Welling – Smallville\, Lucif
 er\nDaniel Newman – The Walking Dead\, The Vampire Diaries\, Heroes\nEliza
 beth Henstridge – Agents of S.H.E.I.L.D.\nLindsey Morgan\, Bob Morley – Th
 e 100\n\nOur favourite geek-pop singer Meri Amber will be performing some 
 of her amazing music. There’s sure to be some of her Doctor Who tunes in t
 here too!\nAnd among the comic book artists will be Doctor Who fan\, Stewa
 rt McKenny.\nWe’ll be joining not only the other sci-fi clubs of Melbourne
  for the event\, but the Australian Dalek Builders Union will be joining u
 s from Adelaide. So drop by and be sure to visit our full-sized TARDIS rep
 lica complete with working console (gold coin donation goes to support the
  Starlight Children’s Foundation).\n \nTickets: http://www.moshtix.com.au/
 v2/event/supanova-comic-con-gaming-melbourne-2018/101098.
DTSTART;TZID=Australia/Melbourne:20180421T100000
DTEND;TZID=Australia/Melbourne:20180422T180000
GEO:-37.782931;+144.911485
LOCATION:Melbourne Show Grounds @ Epsom Rd\, Ascot Vale VIC 3032\, Australi
 a
SEQUENCE:0
SUMMARY:Supanova Comic Con and Gaming 2018
URL:http://dwcv.org.au/wp/event/supanova-comic-con-and-gaming-2018/
X-COST-TYPE:external
X-ALT-DESC;FMTTYPE=text/html:<!DOCTYPE HTML PUBLIC '-//W3C//DTD HTML 3.2//E
 N'>\\n<HTML>\\n<HEAD>\\n<TITLE></TITLE>\\n</HEAD>\\n<BODY><p>This year’s S
 upanova Expo is a huge one for Doctor Who fans. With not one\, not two\, b
 ut <strong>three </strong>Doctor Who guests! <strong>Peter Capaldi</strong
 > (12th Doctor)\, <strong>Pearl Mackie</strong> (Bill Potts) and <strong>J
 ohn Barrowman</strong> (Captain Jack Harkness) will all be at this year’s 
 Melbourne event.</p>\n<p>Other guests include:</p>\n<ul>\n<li><strong>Alan
  Tudyk</strong> – Firefly/Serenity\, Rogue One</li>\n<li><strong>Tom Welli
 ng</strong> – Smallville\, Lucifer</li>\n<li><strong>Daniel Newman</strong
 > – The Walking Dead\, The Vampire Diaries\, Heroes</li>\n<li><strong>Eliz
 abeth Henstridge</strong> – Agents of S.H.E.I.L.D.</li>\n<li><strong>Linds
 ey Morgan</strong>\, <strong>Bob Morley</strong> – The 100</li>\n</ul>\n<p
 >Our favourite geek-pop singer <a href='http://www.meriamber.com/'><strong
 >Meri Amber</strong></a> will be performing some of her amazing music. The
 re’s sure to be some of her Doctor Who tunes in there too!</p>\n<p>And amo
 ng the comic book artists will be Doctor Who fan\, <strong>Stewart McKenny
 </strong>.</p>\n<p>We’ll be joining not only the other sci-fi clubs of Mel
 bourne for the event\, but the Australian Dalek Builders Union will be joi
 ning us from Adelaide. So drop by and be sure to visit our full-sized TARD
 IS replica complete with working console (gold coin donation goes to suppo
 rt the Starlight Children’s Foundation).</p>\n<p> </p>\n<p>Tickets: <a cla
 ss='ai1ec-ticket-url-exported' href='http://www.moshtix.com.au/v2/event/su
 panova-comic-con-gaming-melbourne-2018/101098'>http://www.moshtix.com.au/v
 2/event/supanova-comic-con-gaming-melbourne-2018/101098</a>.</p></BODY></H
 TML>
X-COST:From $32.00
X-TICKETS-URL:http://www.moshtix.com.au/v2/event/supanova-comic-con-gaming-
 melbourne-2018/101098
END:VEVENT
END:VCALENDAR
