BEGIN:VCALENDAR
VERSION:2.0
PRODID:-//69.73.188.146//NONSGML kigkonsult.se iCalcreator 2.20//
CALSCALE:GREGORIAN
METHOD:PUBLISH
X-WR-CALNAME:Doctor Who Club of Victoria
X-WR-CALDESC:
X-FROM-URL:http://dwcv.org.au/wp
X-WR-TIMEZONE:Australia/Melbourne
BEGIN:VTIMEZONE
TZID:Australia/Melbourne
X-LIC-LOCATION:Australia/Melbourne
BEGIN:STANDARD
DTSTART:20190407T030000
TZOFFSETFROM:+1100
TZOFFSETTO:+1000
TZNAME:AEST
END:STANDARD
BEGIN:DAYLIGHT
DTSTART:20181007T020000
TZOFFSETFROM:+1000
TZOFFSETTO:+1100
TZNAME:AEDT
END:DAYLIGHT
END:VTIMEZONE
BEGIN:VEVENT
UID:ai1ec-1353@dwcv.org.au/wp
DTSTAMP:20190301T080005Z
CATEGORIES;LANGUAGE=en-US:Other events
CONTACT:
DESCRIPTION:Whether it is Doctor Who\, Star Wars\, Pokemon\, Minecraft or c
 osplay of any sort\, this is the event for you! Check out all the goods in
 cluding comics\, vintage gaming consoles\, fandom bits and pieces\, jewell
 ery and even shoes on the day\, not to mention food trucks from Melbourne.
 \nIn its fourth year\, we are rolling it out again\, and gradually getting
  bigger and better every year! More family fun for folks of all ages! More
  cosplay! More activities for under 10’s! More stalls! Cosplay workshops t
 oo! Don’t you be the one to miss out!\nTickets: https://www.eventbrite.com
 /e/nerdmania-2018-tickets-47541093691.
DTSTART;TZID=Australia/Melbourne:20180728T100000
DTEND;TZID=Australia/Melbourne:20180728T170000
GEO:-36.381872;+145.410825
LOCATION:Multipurpose Pavillion @ Shepparton VIC 3630\, Australia
SEQUENCE:0
SUMMARY:Nerdmania (Shepparton)
URL:http://dwcv.org.au/wp/event/nerdmania-2018/
X-COST-TYPE:external
X-ALT-DESC;FMTTYPE=text/html:<!DOCTYPE HTML PUBLIC '-//W3C//DTD HTML 3.2//E
 N'>\\n<HTML>\\n<HEAD>\\n<TITLE></TITLE>\\n</HEAD>\\n<BODY><p>Whether it is
  Doctor Who\, Star Wars\, Pokemon\, Minecraft or cosplay of any sort\, thi
 s is the event for you! Check out all the goods including comics\, vintage
  gaming consoles\, fandom bits and pieces\, jewellery and even shoes on th
 e day\, not to mention food trucks from Melbourne.</p>\n<p>In its fourth y
 ear\, we are rolling it out again\, and gradually getting bigger and bette
 r every year! More family fun for folks of all ages! More cosplay! More ac
 tivities for under 10’s! More stalls! Cosplay workshops too! Don’t you be 
 the one to miss out!</p>\n<p>Tickets: <a class='ai1ec-ticket-url-exported'
  href='https://www.eventbrite.com/e/nerdmania-2018-tickets-47541093691'>ht
 tps://www.eventbrite.com/e/nerdmania-2018-tickets-47541093691</a>.</p></BO
 DY></HTML>
X-COST:$15 adults / $10 teens / $5 kids / $35 family
X-TICKETS-URL:https://www.eventbrite.com/e/nerdmania-2018-tickets-475410936
 91
END:VEVENT
END:VCALENDAR
