BEGIN:VCALENDAR
VERSION:2.0
PRODID:-//69.73.188.146//NONSGML kigkonsult.se iCalcreator 2.20//
CALSCALE:GREGORIAN
METHOD:PUBLISH
X-WR-CALNAME:Doctor Who Club of Victoria
X-WR-CALDESC:
X-FROM-URL:http://dwcv.org.au/wp
X-WR-TIMEZONE:Australia/Melbourne
BEGIN:VTIMEZONE
TZID:Australia/Melbourne
X-LIC-LOCATION:Australia/Melbourne
BEGIN:STANDARD
DTSTART:20190407T030000
TZOFFSETFROM:+1100
TZOFFSETTO:+1000
TZNAME:AEST
END:STANDARD
BEGIN:DAYLIGHT
DTSTART:20181007T020000
TZOFFSETFROM:+1000
TZOFFSETTO:+1100
TZNAME:AEDT
END:DAYLIGHT
END:VTIMEZONE
BEGIN:VEVENT
UID:ai1ec-1357@dwcv.org.au/wp
DTSTAMP:20190301T080059Z
CATEGORIES;LANGUAGE=en-US:Other events
CONTACT:https://bendigorctfair.wordpress.com/
DESCRIPTION:<p>The Bendigo Record Comic and Toy Fair has split into separat
 e events.  The Bendigo Record Fair ran as a stand-alone event in June this
  year\, and will continue to run as a separate event\, run by the same fri
 endly irresponsible folk.</p>\n<p>The pop culture event has now re-branded
  as Bendi-Con\, and the next event will be held on September 23rd at the B
 endigo Expo Centre\, Bendigo Showgrounds.  As usual\, the cosplay contest\
 , and the fair in general\, is a fundraiser for the Peter MacCallum Cancer
  Foundation.</p>
DTSTART;TZID=Australia/Melbourne:20180923T100000
DTEND;TZID=Australia/Melbourne:20180923T160000
GEO:-36.737969;+144.27228
LOCATION:Prince of Wales Showgrounds @ Victoria 3550\, Australia
SEQUENCE:0
SUMMARY:Bendi-Con
URL:http://dwcv.org.au/wp/event/bendi-con/
X-COST-TYPE:free
X-COST:Free - $10
END:VEVENT
END:VCALENDAR
