BEGIN:VCALENDAR
VERSION:2.0
PRODID:-//69.73.188.146//NONSGML kigkonsult.se iCalcreator 2.20//
CALSCALE:GREGORIAN
METHOD:PUBLISH
X-WR-CALNAME:Doctor Who Club of Victoria
X-WR-CALDESC:
X-FROM-URL:http://dwcv.org.au/wp
X-WR-TIMEZONE:Australia/Melbourne
BEGIN:VTIMEZONE
TZID:Australia/Melbourne
X-LIC-LOCATION:Australia/Melbourne
BEGIN:STANDARD
DTSTART:20190407T030000
TZOFFSETFROM:+1100
TZOFFSETTO:+1000
TZNAME:AEST
END:STANDARD
BEGIN:DAYLIGHT
DTSTART:20181007T020000
TZOFFSETFROM:+1000
TZOFFSETTO:+1100
TZNAME:AEDT
END:DAYLIGHT
END:VTIMEZONE
BEGIN:VEVENT
UID:ai1ec-1399@dwcv.org.au/wp
DTSTAMP:20190301T080955Z
CATEGORIES;LANGUAGE=en-US:DWCV events
CONTACT:0478 840 005\; secretary@dwcv.org.au
DESCRIPTION:Theme TBA\nMeeting theme and information may be subject to chan
 ge without notice.\n\n\nMeeting Information\n\nDoors open @ 1:00 pm\, acti
 vities start @ 1:30 pm.\nAdmission Prices:\n—Members: $6.00* / Non-members
 : $8.00\n—Kids under 14: $2.00 / Kids under 2: Free\n—Family (2 adults and
  kids): $14.00 members / $18.00 non-members\n—Non-member first-time attend
 ing a meeting: gold coin donation\nFood and Drink:\n—Tea and coffee provid
 ed\, soft drinks available to purchase for $1.50.\n—Some snacks are provid
 ed for no additional cost.\n—Donations of a plate of food are always appre
 ciated but not necessary. 🙂\n—Venue is walking distance from food places i
 f you wish to eat something more substantial.\n*Members can also choose to
  use their ‘one free meeting entry’ as part of their membership for this m
 eeting.
DTSTART;TZID=Australia/Melbourne:20190914T130000
DTEND;TZID=Australia/Melbourne:20190914T170000
GEO:-37.819841;+144.947552
LOCATION:The Hub Docklands @ 80 Harbour Esplanade\, Docklands VIC 3008\, Au
 stralia
SEQUENCE:0
SUMMARY:September DWCV Meeting:
URL:http://dwcv.org.au/wp/event/september-dwcv-meeting-2018-2/
X-COST-TYPE:free
X-ALT-DESC;FMTTYPE=text/html:<!DOCTYPE HTML PUBLIC '-//W3C//DTD HTML 3.2//E
 N'>\\n<HTML>\\n<HEAD>\\n<TITLE></TITLE>\\n</HEAD>\\n<BODY><p><em>Theme TBA
 </em></p>\n<p><em>Meeting theme and information may be subject to change w
 ithout notice.</em></p>\n<div class='line_t'>\n<hr />\n<h4><span style='te
 xt-decoration: underline\;'>Meeting Information</span></h4>\n</div>\n<p><e
 m><strong>Doors open @ 1:00 pm\, activities start @ 1:30 pm.</strong></em>
 </p>\n<p><strong>Admission Prices:</strong><br />\n<strong>—</strong>Membe
 rs: $6.00* / Non-members: $8.00<br />\n<strong>—</strong>Kids under 14: $2
 .00 / Kids under 2: Free<br />\n<strong>—</strong>Family (2 adults and kid
 s): $14.00 members / $18.00 non-members<br />\n<strong>—</strong>Non-membe
 r first-time attending a meeting: gold coin donation</p>\n<p><strong>Food 
 and Drink:<br />\n—</strong>Tea and coffee provided\, soft drinks availabl
 e to purchase for $1.50.<br />\n<strong>—</strong>Some snacks are provided
  for no additional cost.<br />\n<strong>—</strong>Donations of a plate of 
 food are always appreciated but not necessary. 🙂<br />\n<strong>—</strong>
 Venue is walking distance from food places if you wish to eat something mo
 re substantial.</p>\n<p><em>*Members can also choose to use their ‘one fre
 e meeting entry’ as part of their membership for this meeting.</em></p>\n<
 /BODY></HTML>
X-COST:$6 members / $8 non-members
END:VEVENT
END:VCALENDAR
