BEGIN:VCALENDAR
VERSION:2.0
PRODID:-//69.73.188.146//NONSGML kigkonsult.se iCalcreator 2.20//
CALSCALE:GREGORIAN
METHOD:PUBLISH
X-WR-CALNAME:Doctor Who Club of Victoria
X-WR-CALDESC:
X-FROM-URL:http://dwcv.org.au/wp
X-WR-TIMEZONE:Australia/Melbourne
BEGIN:VTIMEZONE
TZID:Australia/Melbourne
X-LIC-LOCATION:Australia/Melbourne
BEGIN:STANDARD
DTSTART:20190407T030000
TZOFFSETFROM:+1100
TZOFFSETTO:+1000
TZNAME:AEST
END:STANDARD
BEGIN:DAYLIGHT
DTSTART:20181007T020000
TZOFFSETFROM:+1000
TZOFFSETTO:+1100
TZNAME:AEDT
END:DAYLIGHT
END:VTIMEZONE
BEGIN:VEVENT
UID:ai1ec-1404@dwcv.org.au/wp
DTSTAMP:20190301T080621Z
CATEGORIES;LANGUAGE=en-US:Other events
CONTACT:http://www.comixpo.com/
DESCRIPTION:On Melbourne Cup Day ComiXpo 5.0 will showcase some of the grea
 test science fiction and fantasy pop culture names in comics\, movies\, te
 levision\, animation\, and gaming. ComiXpo highlights the best in collecta
 bles\, merchandise\, and memorabilia from both industry and the fans. Pres
 enting amazing props\, costumes\, art\, and impressive fan based cosplay\,
  coupled with innovative customer interactions.\nThere will be a Cosplay F
 ashion Parade with prizes and certificates given out to the winners.\nAn e
 vent run by fans for fans!
DTSTART;TZID=Australia/Melbourne:20181106T100000
DTEND;TZID=Australia/Melbourne:20181106T160000
GEO:-37.876542;+145.092124
LOCATION:Matthew Flinders Hotel @ 667 Warrigal Rd\, Chadstone VIC 3148\, Au
 stralia
SEQUENCE:0
SUMMARY:ComiXpo 6.0
URL:http://dwcv.org.au/wp/event/comixpo-6-0/
X-COST-TYPE:free
X-ALT-DESC;FMTTYPE=text/html:<!DOCTYPE HTML PUBLIC '-//W3C//DTD HTML 3.2//E
 N'>\\n<HTML>\\n<HEAD>\\n<TITLE></TITLE>\\n</HEAD>\\n<BODY><p>On Melbourne 
 Cup Day ComiXpo 5.0 will showcase some of the greatest science fiction and
  fantasy pop culture names in comics\, movies\, television\, animation\, a
 nd gaming. ComiXpo highlights the best in collectables\, merchandise\, and
  memorabilia from both industry and the fans. Presenting amazing props\, c
 ostumes\, art\, and impressive fan based cosplay\, coupled with innovative
  customer interactions.</p>\n<p>There will be a Cosplay Fashion Parade wit
 h prizes and certificates given out to the winners.</p>\n<p>An event run b
 y fans for fans!</p>\n</BODY></HTML>
X-COST:$5 / Cosplayers and Kids FREE
END:VEVENT
END:VCALENDAR
